Workbook
Name \N: #REF!
Name \N: #REF!
Name \Z: #REF!
Name \Z: #REF!
Name _0: #REF!
Name _0: #REF!
Name _1: #REF!
Name _1: #REF!
Name _10: #REF!
Name _10: #REF!
Name _11: #REF!
Name _11: #REF!
Name _12: #REF!
Name _12: #REF!
Name _13: #REF!
Name _13: #REF!
Name _14: #REF!
Name _14: #REF!
Name _15: #REF!
Name _15: #REF!
Name _16: #REF!
Name _16: #REF!
Name _17: #REF!
Name _17: #REF!
Name _18: #REF!
Name _18: #REF!
Name _19: #REF!
Name _19: #REF!
Name _1CF_BY_MTH: #REF!
Name _1CF_BY_MTH: #REF!
Name _2: #REF!
Name _2: #REF!
Name _20: #REF!
Name _20: #REF!
Name _21: #REF!
Name _21: #REF!
Name _22: #REF!
Name _22: #REF!
Name _23: #REF!
Name _23: #REF!
Name _24: #REF!
Name _24: #REF!
Name _25: #REF!
Name _25: #REF!
Name _26: #REF!
Name _26: #REF!
Name _27: #REF!
Name _27: #REF!
Name _28: #REF!
Name _28: #REF!
Name _29: #REF!
Name _29: #REF!
Name _2CF_RET_OFF: '[1]Cash Flow'!#REF!
Name _2CF_RET_OFF: '[1]Cash Flow'!#REF!
Name _3: #REF!
Name _3: #REF!
Name _30: #REF!
Name _30: #REF!
Name _31: #REF!
Name _31: #REF!

Sheet foxz

Sheet Bìa
A2: CỘNG HÒA XÃ HỘI CHỦ NGHĨA VIỆT NAM
A3: Độc lập - Tự do - Hạnh phúc
A10: DỰ TOÁN CHI PHÍ
A12: ĐỒ ÁN: QUY HOẠCH CHUNG XÂY DỰNG XÃ CHÂU SƠN, TỈNH LẠNG SƠN ĐẾN NĂM 2045, TỶ LỆ 1/10.000
A13: ĐỊA ĐIỂM: XÃ CHÂU SƠN, TỈNH LẠNG SƠN
A28: LẠNG SƠN, NĂM 2026 | E28: B¾c ninh, 5/2007

Sheet Thuyết minh
A1: CỘNG HOÀ XÃ HỘI CHỦ NGHĨA VIỆT NAM
A2: Độc lập - Tự do - Hạnh phúc
A3: --------***-------
A5: THUYẾT MINH DỰ TOÁN
A7: I. Cơ sở lập dự toán:
A8: - | B8: Luật Quy hoạch đô thị và Nông thôn số 47/2024/QH15, ngày 26/11/2024; Luật số 144/2025/QH15 sửa đổi, bổ sung một số điều của Luật Quy hoạch đô thị và Nông thôn, ngày 11/12/2025;
A9: - | B9: Luật Đấu thầu số 22/2023/QH15, ngày 23/06/2023;
A10: - | B10: Nghị định số 174/2025/NĐ-CP ngày 30/06/2025 của Chính phủ quy định chính sách giảm thuế Giá trị gia tăng theo Nghị quyết số 204/2025/QH15 ngày 17/06/2025 của Quốc hội;
A11: - | B11: Nghị định số 178/2025/NĐ-CP ngày 01/07/2025 của Chính phủ quy định chi tiết một số điều của Luật Quy hoạch đô thị và nông thôn; Nghị định số 34/2026/NĐ-CP ngày 22/01/2026 của Chính phủ sửa đổi, bổ sung một số điều của nghị định số 178/2025/NĐ-CP ngày 01/07/2025 của Chính phủ quy định chi tiết một số điều của luật Quy hoạch đô thị và Nông thôn;
A12: - | B12: Nghị định số 214/2025/NĐ-CP ngày 04/08/2025 của Chính phủ quy định chi tiết một số điều và biện pháp thi hành luật đấu thầu về lựa chọn nhà thầu;
A13: - | B13: Nghị định số 104/2026/NĐ-CP ngày 31/03/2026 của Chính phủ quy định việc lập dự toán, quản lý, sử dụng và quyết toán chi thường xuyên để thực hiện các nhiệm vụ quy định tại Điều 40 Luật Ngân sách Nhà nước;
A14: - | B14: Nghị định số 161/2026/NĐ-CP ngày 15/05/2026 của Chính phủ quy định mức lương cơ sở và chế độ tiền thưởng đối với cán bộ, công chức, viên chức và lực lượng vũ trang;
A15: - | B15: Thông tư số 10/2021/TT-BXD ngày 25/08/2021 của Bộ Xây dựng hướng dẫn một số điều và biện pháp thi hành nghị định số 06/2021/NĐ-CP ngày 26/01/2021 và Nghị định số 44/2016/NĐ-CP ngày 15/5/2016 của Chính phủ;
A16: - | B16: Thông tư số 35/2023/TT-BTC ngày 31/05/2023 của Bộ Tài chính quy định mức thu, chế độ thu, nộp, quản lý và sử dụng phí thẩm định các đồ án quy hoạch;
A17: - | B17: Thông tư số 47/2024/TT-BTC ngày 10/07/2024 của Bộ Tài chính quy định mức thu, chế độ thu, nộp, miễn, quản lý và sử dụng phí khai thác, sử dụng thông tin dữ liệu đo đạc và bản đồ;
A18: - | B18: Thông tư số 12/2025/TT-BTC ngày 19/03/2025 của Bộ Tài chính sửa đổi, bổ sung một số điều của Thông tư số 40/2017/TT-BTC ngày 28/04/2017 của Bộ trưởng Bộ Tài chính quy định chế độ công tác phí, chế độ chi hội nghị;
A19: - | B19: Thông tư số 17/2025/TT-BXD ngày 30/06/2025 của Bộ Xây dựng ban hành định mức, phương pháp lập và quản lý chi phí cho hoạt động quy hoạch đô thị và nông thôn;
... A22: - | B22: Thông tư số 36/2026/TT-BXD ngày 26/06/2026 của Bộ Xây dựng hướng dẫn một số nội dung, phương pháp xác định và quản lý chi phí đầu tư xây dựng;
B23: Thông tư số 38/2026/TT-BXD ngày 26/06/2026 của Bộ Xây dựng ban hành định mức xây dựng;
A25: II. Giá trị tổng dự toán: | C25: ='Tổng hợp'!J23 -> 1948684000 | D25: đồng
B26: ='Tổng hợp'!B24 -> (Bằng chữ: Một tỷ, chín trăm bốn mươi tám triệu, sáu trăm tám mươi bốn nghìn đồng chẵn./.)

Sheet Tổng hợp
A1: TỔNG HỢP DỰ TOÁN
A2: =Bìa!A12 -> ĐỒ ÁN: QUY HOẠCH CHUNG XÂY DỰNG XÃ CHÂU SƠN, TỈNH LẠNG SƠN ĐẾN NĂM 2045, TỶ LỆ 1/10.000
A4: STT | B4: NỘI DUNG CHI PHÍ | C4: KÝ HIỆU | D4: CÁCH TÍNH | J4: THÀNH TIỀN (VNĐ) | K4: GHI CHÚ
A5: 1 | B5: Chi phí khảo sát địa hình | C5: G1 | D5: Dự toán chi tiết | J5: ='1- Khảo sát ĐH'!G16 -> 1.2631024e+09
A6: =MAX($A$5:A5)+1 -> 2 | B6: Chi phí lập đồ án quy hoạch chung xã (Quy mô dân số năm 2045 dự kiến 10.120 người) | C6: G2 | J6: =SUBTOTAL(9,J7:J8) -> 3.649171e+08 | N6: ='Nội suy'!D11*1000000 -> 0 | O6: =N6*0.25 -> 0 | P6: =(N6+O6)*0.08 -> 0 | Q6: =SUM(N6:P6)*0.5 -> 0
A7: 2.1 | B7: - Chi phí lập đồ án quy hoạch chung xã | F7: ='Nội suy'!D9*1000000 -> 2.68912e+08 | G7: đồng | H7: × | I7: 1.08 | J7: =F7*I7 -> 2.9042496e+08 | K7: Bảng 2 - Thông tư 17/2025/TT-BXD ngày 30/06/2025
A8: 2.2 | B8: - Chi phí lập quy hoạch sản xuất và quy hoạch sử dụng đất của xã nông thôn | D8: Dự toán chi tiết | J8: ='2- Chi phí QHSX+SDĐ'!D11 -> 74492136 | K8: Thông tư 17/2025/TT-BXD ngày 30/06/2025 | L8: =J8/J7 -> 0.25649357
A9: =MAX($A$5:A6)+1 -> 3 | B9: Chi phí lập nhiệm vụ quy hoạch | C9: G3 | D9: Hợp đồng số 0804/2026/HĐTV, ký ngày 08/04/2026 | J9: 37013000 | K9: Thông tư 17/2025/TT-BXD ngày 30/06/2025
A10: =MAX($A$5:A9)+1 -> 4 | B10: Chi phí thẩm định đồ án quy hoạch (Tỷ lệ × Giá trị lập đồ án quy hoạch trước thuế) | C10: G5 | D10: ='Nội suy'!D31/100 -> 0.11104986 | E10: × | F10: =J6/1.08 -> 3.378862e+08 | G10: đồng | J10: =D10*F10 -> 37522216 | K10: Thông tư 35/2023/TT-BTC ngày 31/05/2023
A11: =MAX($A$5:A10)+1 -> 5 | B11: Chi phí quản lý nghiệp vụ lập đồ án quy hoạch (Tỷ lệ × Giá trị lập đồ án quy hoạch trước thuế) | C11: G6 | D11: ='Nội suy'!D45/100 -> 0.097726828 | E11: × | F11: =J6/1.08 -> 3.378862e+08 | G11: đồng | J11: =D11*F11 -> 33020547 | K11: Bảng 8 - Thông tư 17/2025/TT-BXD ngày 30/06/2025
A12: =MAX($A$5:A11)+1 -> 6 | B12: Chi phí tổ chức lấy ý kiến của cơ quan, tổ chức và đại diện cộng đồng dân cư | C12: G7 | D12: Dự toán chi tiết | J12: ='3- Lấy ý kiến QH'!F19 -> 30017000 | L12: =$J$6*2% -> 7298341.9
A13: =MAX($A$5:A12)+1 -> 7 | B13: Chi phí công bố quy hoạch | C13: G8 | D13: Dự toán chi tiết | J13: ='4- Công bố QH'!F11 -> 32270000 | L13: =$J$6*3% -> 10947513
A14: =MAX($A$5:A13)+1 -> 8 | B14: Chi phí lập hồ sơ quy hoạch theo hệ thống thông tin địa lý (GIS) | C14: G9 | D14: 0.1 | E14: × | F14: =J6 -> 3.649171e+08 | G14: đồng | J14: =D14*F14 -> 36491710 | K14: Thông tư 17/2025/TT-BXD ngày 30/6/2025
A15: =MAX($A$5:A14)+1 -> 9 | B15: Chi phí lập HSMT, đánh giá HSDT tư vấn (Khảo sát địa hình) | C15: G10 | D15: ='Nội suy'!D52/100 -> 0.0079624868 | E15: × | F15: =SUM($J$5)/1.08 -> 1169539227 | G15: đồng | H15: × | I15: 1.08 | J15: =D15*F15*I15 -> 10057436 | K15: Bảng 2.21 - Thông tư 38/2026/TT-BXD ngày 26/06/2026
A16: =MAX($A$5:A15)+1 -> 10 | B16: Chi phí khác | C16: G11 | D16: (10.1)+(10.2)+...+(10.3) | J16: =SUBTOTAL(9,J17:J21) -> 1.0427217e+08
A17: 10.1 | B17: - Chi phí lập nhiệm vụ khảo sát | C17: Gnvks | D17: 0.03 | E17: × | F17: =$J$5 -> 1.2631024e+09 | G17: đồng | J17: =D17*F17 -> 37893071 | K17: Thông tư 36/2026/TT-BXD ngày 26/06/2026
A18: 10.2 | B18: - Chi phí giám sát công tác khảo sát | C18: Ggsks | D18: ='Nội suy'!D59/100 -> 0.040494937 | E18: × | F18: =$J$5 -> 1.2631024e+09 | G18: đồng | J18: =D18*F18 -> 51149250 | K18: Bảng 2.26 - Thông tư 38/2026/TT-BXD ngày 26/06/2026
A19: 10.3 | B19: - Chi phí kiểm tra, thẩm định, nghiệm thu chất lượng sản phẩm đo đạc và bản đồ | D19: 0.2 | E19: × | F19: =J18 -> 51149250 | G19: đồng | J19: =D19*F19 -> 10229850 | K19: Thông tư 10/2021/TT-BXD ngày 25/08/2021 (vận dụng)
A20: 10.4 | B20: - Chi phí thẩm định HSMT | D20: Định mức tối thiểu | J20: 2000000 | K20: Nghị định 214/2025/NĐ-CP ngày 04/08/2025 | L20: =0.1%*SUM($J$5,$J$6,$J$14)/1.08 -> 1541214
A21: 10.5 | B21: - Chi phí thẩm định kết quả LCNT | D21: Định mức tối thiểu | J21: 3000000 | L21: =0.1%*SUM($J$5,$J$6,$J$14)/1.08 -> 1541214
B22: TỔNG CỘNG SAU THUẾ | C22: G | D22: G1+G2+…+G11 | J22: =SUBTOTAL(9,J5:J21) -> 1.9486835e+09
B23: LÀM TRÒN: | J23: =ROUND(J22,-3) -> 1948684000
B24: (Bằng chữ: Một tỷ, chín trăm bốn mươi tám triệu, sáu trăm tám mươi bốn nghìn đồng chẵn./.)
A25: Ghi chú: | B25: - Thuế giá trị gia tăng, hệ số: 1,08

Sheet Bảng tiến độ CG
A1: BẢNG TIẾN ĐỘ CÔNG VIỆC
A2: =#REF! -> #REF!
A3: STT | B3: Nội dung công việc
C4: Chuyên gia 1 | D4: Chuyên gia 2 | E4: Chuyên gia 3 | F4: Chuyên gia 4 | G4: Chuyên gia 5 | H4: Chuyên gia 6 | I4: Chuyên gia 7 | J4: Chuyên gia 8 | K4: Chuyên gia 9 | L4: Chuyên gia 10 | M4: Chuyên gia 11 | N4: Chuyên gia 12 | O4: Chuyên gia 13 | P4: Chuyên gia 14 | Q4: Chuyên gia 15 | R4: Chuyên gia 16 | S4: Chuyên gia 17 | T4: Chuyên gia 18 | U4: Chuyên gia 19 | V4: Tổng cộng (tháng)
A6: I | B6: Phần bản vẽ
A7: 1 | B7: Thu thập, nghiên cứu tài liệu có liên quan | C7: 0.5 | D7: 0.5 | E7: 0.5 | F7: 0.5 | G7: 0.5 | H7: 0.5 | I7: 0.25 | J7: 0.25 | K7: 0.25 | L7: 0.25 | M7: 0.25 | N7: 0.25 | O7: 0.25 | P7: 0.25 | Q7: 0.25 | V7: =SUM(C7:U7) -> 5.25
A8: 2 | B8: Đánh giá và khảo sát hiện trạng | C8: 1 | D8: 1 | E8: 1 | F8: 1 | G8: 1 | H8: 1 | I8: 0.75 | J8: 0.55 | K8: 0.55 | L8: 0.75 | M8: 0.55 | N8: 0.55 | O8: 0.75 | P8: 0.55 | Q8: 0.55 | R8: 0.5 | S8: 0.5 | V8: =SUM(C8:U8) -> 12.55
A9: 3 | B9: Sơ đồ vị trí và liên hệ vùng: | C9: 0.2 | D9: 0.2 | E9: 0.2 | F9: 0.2 | G9: 0.2 | H9: 0.2 | V9: =SUM(C9:U9) -> 1.2
B10: Vị trí, quy mô, ranh giới lập quy hoạch; các mối quan hệ về tự nhiên, kinh tế - xã hội, phát triển đô thị và nông thôn, tổ chức không gian và phân vùng chức năng, phát triển kết cấu hạ tầng, sử dụng tài nguyên và bảo vệ môi trường trong quy hoạch vùng, quy hoạch tính có ảnh hưởng tới khu chức năng được lập quy hoạch. | V10: =SUM(C10:U10) -> 0
B11: Bản vẽ thể hiện theo tỷ lệ thích hợp; trên nền bản đồ tổ chức không gian và phân vùng chức năng trong quy hoạch vùng, quy hoạch tỉnh đã được phê duyệt. | V11: =SUM(C11:U11) -> 0
A12: 4 | B12: Các bản đồ hiện trạng gồm: | C12: 1 | D12: 1 | E12: 1 | F12: 1 | G12: 1 | H12: 1 | V12: =SUM(C12:U12) -> 6
B13: Hiện trạng của các chức năng sử dụng đất theo quy định tại Phụ lục VII của Thông tư này; kiến trúc cảnh quan, hệ thống hạ tầng xã hội (giáo dục, y tế, văn hóa, thương mại, cây xanh, nhà ở, ...); hệ thống công trình hạ tầng kỹ thuật (giao thông, cấp năng lượng và chiếu sáng, thông tin liên lạc, cấp nước, cao độ nền và thoát nước mưa, thoát nước thải; quản lý chất thải rắn, nghĩa trang và môi trường). | V13: =SUM(C13:U13) -> 0
B14: Bản vẽ thể hiện trên nền bản đồ địa hình tỷ lệ 1/5.000 hoặc 1/10.000. | V14: =SUM(C14:U14) -> 0
A15: 5 | B15: Bản đồ đánh giá tổng hợp và lựa chọn đất xây dựng trên cơ sở các tiêu chí đánh giá phù hợp về địa hình, điều kiện hiện trạng, địa chất thủy văn; đánh giá về sử dụng đất. | C15: 0.25 | D15: 0.25 | E15: 0.25 | F15: 0.25 | G15: 0.25 | H15: 0.25 | V15: =SUM(C15:U15) -> 1.5
B16: Xác định các khu vực thuận lợi, ít thuận lợi, không thuận lợi cho phát triển; xác định các khu vực cấm, khu vực hạn chế phát triển trong khu chức năng. Bản vẽ thể hiện trên nền bản đồ địa hình tỷ lệ 1/5.000 hoặc 1/10.000. | V16: =SUM(C16:U16) -> 0
A17: 6 | B17: Sơ đồ cơ cấu phát triển khu quy hoạch (các sơ đồ phân tích hiện trạng và đề xuất các phương án kèm theo thuyết minh nội dung về tiêu chí xem xét, lựa chọn các phương án); | C17: 1.5 | D17: 1.5 | E17: 1 | F17: 1 | G17: 1 | H17: 1 | I17: 1 | J17: 1 | K17: 1 | L17: 1 | M17: 1 | N17: 1 | O17: 1 | P17: 1 | Q17: 1 | V17: =SUM(C17:U17) -> 16
B18: Thể hiện khung hệ thống giao thông chính, mối liên kết giữa các khu vực chức năng chính, các khu vực trung tâm và hướng phát triển mở rộng khu chức năng. Bản vẽ thể hiện trên nền bản đồ địa hình tỷ lệ 1/5.000 hoặc 1/10.000. | V18: =SUM(C18:U18) -> 0
A19: 7 | B19: Bản đồ định hướng phát triển không gian: | C19: 1.5 | D19: 1.5 | E19: 1.25 | F19: 1.25 | G19: 1.25 | H19: 0.85 | I19: 1 | J19: 1 | K19: 1 | L19: 1 | M19: 1 | N19: 1 | O19: 1 | P19: 1 | Q19: 1 | R19: 0.25 | S19: 0.25 | V19: =SUM(C19:U19) -> 17.1
B20: Xác định cấu trúc phát triển không gian theo các khu vực chức năng; các khu vực trọng điểm, khu vực kiến trúc, cảnh quan, các trục không gian chính, hệ thống quảng trường, khu vực cửa ngõ, công trình điểm nhấn của khu chức năng; các liên kết về giao thông và hạ tầng kỹ thuật giữa các khu vực; các khu vực dự kiến xây dựng công trình ngầm (nếu có). | V20: =SUM(C20:U20) -> 0
B21: Xác định và thể hiện phạm vi ranh giới các khu vực cần can thiệp kiểm soát phát triển như: Khu vực bảo tồn tôn tạo, cải tạo chỉnh trang, khu vực phát triển mới, các khu vực kiến trúc cảnh quan khác cần được bảo vệ,.... Bản vẽ thể hiện trên nền bản đồ địa hình tỷ lệ 1/10.000. | V21: =SUM(C21:U21) -> 0
A22: 8 | B22: Bản đồ quy hoạch sử dụng đất theo các giai đoạn quy hoạch: | C22: 0.75 | D22: 0.75 | E22: 0.75 | F22: 0.75 | G22: 0.75 | H22: 0.75 | I22: 0.5 | J22: 0.5 | K22: 0.5 | L22: 0.5 | M22: 0.5 | N22: 0.5 | O22: 0.5 | P22: 0.5 | Q22: 0.5 | V22: =SUM(C22:U22) -> 9
B23: Vị trí, quy mô của các chức năng sử dụng đất theo quy định tại Phụ lục VII của Thông tư này; xác định quy mô dân số (nếu có), đất đai, chỉ tiêu sử dụng đất của từng khu vực trong khu chức năng theo các giai đoạn phát triển. Đối với các khu vực không gian chính của khu kinh tế, khu công nghệ cao, khu nghiên cứu, đào tạo cần quy định tầng cao xây dựng tối đa và tối thiểu. Bản vẽ thể hiện trên nền bản đồ địa hình tỷ lệ 1/10.000. | V23: =SUM(C23:U23) -> 0
A24: 9 | B24: Các bản vẽ định hướng kiểm soát về kiến trúc, cảnh quan: | C24: 0.75 | D24: 0.75 | E24: 0.75 | F24: 0.75 | G24: 0.75 | H24: 0.75 | I24: 0.25 | J24: 0.2 | K24: 0.2 | L24: 0.25 | M24: 0.2 | N24: 0.2 | O24: 0.25 | P24: 0.2 | Q24: 0.2 | V24: =SUM(C24:U24) -> 6.45
B25: Xác định các vùng kiến trúc, cảnh quan trong khu quy hoạch; đề xuất tổ chức không gian các trục, khu chức năng quan trọng (khu trung tâm, khu vực cửa ngõ, trục không gian chính, quảng trường, không gian cây xanh, mặt nước và các khu vực, công trình điểm nhấn,...). Bản vẽ thể hiện trên nền bản đồ địa hình theo tỷ lệ thích hợp. | V25: =SUM(C25:U25) -> 0
A26: 10 | B26: Các bản đồ định hướng phát triển hạ tầng kỹ thuật: | C26: 1.25 | D26: 1.25 | E26: 1 | F26: 1 | G26: 0.5 | H26: 0.5 | I26: 2.5 | J26: 2 | K26: 2 | L26: 2.5 | M26: 2 | N26: 2.5 | O26: 2.5 | P26: 2 | Q26: 2 | R26: 2.5 | S26: 2.5 | V26: =SUM(C26:U26) -> 30.5
B27: Xác định mạng lưới, vị trí, quy mô các công trình hạ tầng kỹ thuật cấp quốc gia, vùng, tỉnh và đô thị trong phạm vi lập quy hoạch chung khu chức năng theo từng chuyên ngành gồm chuẩn bị kỹ thuật, giao thông (đến cấp đường chính khu vực), cấp nước, cung cấp năng lượng, thoát nước và xử lý nước thải, quản lý chất thải rắn, nghĩa trang, hạ tầng viễn thông thụ động và công trình hạ tầng kỹ thuật khác. Bản vẽ thể hiện trên nền bản đồ quy hoạch sử dụng đất khu chức năng theo các giai đoạn quy hoạch kết hợp bản đồ địa hình tỷ lệ 1/10.000. | V27: =SUM(C27:U27) -> 0
A28: II | B28: Phần văn bản | V28: =SUM(C28:U28) -> 0
A29: 1 | B29: Thuyết minh đồ án (Nội dung công việc theo mục 2 điều 25 thông tư 04/2022/TT-BXD ngày 24/10/2022) | C29: 1.1 | D29: 1.1 | E29: 1.1 | F29: 1.1 | G29: 1.1 | H29: 1 | I29: 0.75 | J29: 0.5 | K29: 0.5 | L29: 0.75 | M29: 0.5 | N29: 0.5 | O29: 0.75 | P29: 0.5 | Q29: 0.5 | R29: 0.75 | S29: 0.75 | T29: 4 | U29: 4 | V29: =SUM(C29:U29) -> 21.25
B30: Phụ lục kèm theo thuyết minh (các giải trình, phụ lục đính kèm, giải thích, luận cứ bổ sung cho thuyết minh; bản vẽ minh họa; các số liệu tính toán). Phụ lục đính kèm văn bản pháp lý liên quan | V30: =SUM(C30:U30) -> 0
A31: 2 | B31: Quy định quản lý theo đồ án quy hoạch chung xây dựng khu chức năng: Nội dung theo quy định tại khoản 1 Điều 15 Nghị định số 44/2015/NĐ-CP và phải có các bản vẽ khổ A3 kèm theo. | C31: 0.1 | D31: 0.1 | E31: 0.1 | F31: 0.1 | G31: 0.1 | H31: 0.1 | V31: =SUM(C31:U31) -> 0.6
A32: 3 | B32: Dự thảo Tờ trình và dự thảo Quyết định phê duyệt đồ án quy hoạch. | C32: =0.1 -> 0.1 | D32: =0.1 -> 0.1 | E32: =0.1 -> 0.1 | F32: =0.1 -> 0.1 | G32: =0.1 -> 0.1 | H32: =0.1 -> 0.1 | V32: =SUM(C32:U32) -> 0.6
B33: TỔNG CỘNG | C33: =SUM(C7:C32) -> 10 | D33: =SUM(D7:D32) -> 10 | E33: =SUM(E7:E32) -> 9 | F33: =SUM(F7:F32) -> 9 | G33: =SUM(G7:G32) -> 8.5 | H33: =SUM(H7:H32) -> 8 | I33: =SUM(I7:I32) -> 7 | J33: =SUM(J7:J32) -> 6 | ... U33: =SUM(U7:U32) -> 4 | V33: =SUM(V6:V32) -> 128

Sheet 1- Khảo sát ĐH
A1: BẢNG 1 - CHI PHÍ KHẢO SÁT ĐỊA HÌNH
A2: =Bìa!A12 -> ĐỒ ÁN: QUY HOẠCH CHUNG XÂY DỰNG XÃ CHÂU SƠN, TỈNH LẠNG SƠN ĐẾN NĂM 2045, TỶ LỆ 1/10.000
A3: HẠNG MỤC: KHẢO SÁT, LẬP BẢN ĐỒ ĐỊA HÌNH TỶ LỆ 1:10.000
A5: STT | B5: Tên công tác | C5: Đơn vị | D5: Khó khăn | E5: Khối lượng | F5: Đơn giá | G5: Thành tiền | H5: Ghi chú
A6: 1 | B6: Mua tư liệu bản đồ khu vực | C6: Mảnh chính quy | E6: 16 | F6: 850000 | G6: =ROUND(E6*F6,0) -> 13600000 | H6: Trang 3 - Phụ lục kèm theo Thông tư số 47/TT-BTC ngày 10/07/2024
A7: 2 | B7: Dữ liệu vệ tinh quang học Pleiades của hãng Airbus: - Dữ liệu: ảnh gốc: Độ phân giải: 0,5m - Mức xử lý: 1A; - Thời gian chụp: Quý II/2025 đến nay | C7: Km2 | E7: 305.78 | F7: 1200000 | G7: =ROUND(E7*F7,0) -> 366936000 | H7: Theo báo giá của đơn vị cung ứng
A8: 5 | B8: Thành lập BĐA vệ tinh | C8: Mảnh quy đổi | D8: 2 | E8: =+ROUND($E$7/45,2) -> 6.8 | F8: 5706754 | G8: =ROUND(E8*F8,0) -> 38805927 | H8: Mục 1.6.3 Thành lập Bình đồ ảnh Tỷ lệ 1:10.000 (KK2) - Thông tư số 70/2025/TT-BNNMT ngày 28/11/2025
A9: 6 | B9: =+[10]DONGIA_CSDL_BDDH_10K_TT70_AHK!C130 -> Rà soát, phân loại và biên tập nội dung dữ liệu | C9: Mảnh quy đổi | D9: 2 | E9: =+ROUND($E$7/45,2) -> 6.8 | F9: 9229943 | G9: =ROUND(E9*F9,0) -> 62763612 | H9: Mục 2.3 Rà soát, phân loại và biên tập nội dung dữ liệu Tỷ lệ 1:10.000 (KK2) - Thông tư số 70/2025/TT-BNNMT ngày 28/11/2025
A10: 7 | B10: Đo vẽ bù chi tiết địa hình (Khoảng cao đều 10m) | C10: Km2 | D10: 3 | E10: =+ROUND(E7*2%,2) -> 6.12 | F10: 26325047 | G10: =ROUND(E10*F10,0) -> 161109288 | H10: Mục 1.9.1.2 Đo bù bằng kỹ thuật GNSS động (KK3) - Thông tư số 70/2025/TT-BNNMT ngày 28/11/2025 (Phạm vi thực hiện có tỷ lệ biến động nhỏ về địa hình, do vậy khối lượng đo bù chi tiết địa hình được tạm tính bằng 2%)
A11: 8 | B11: =+[10]DONGIA_CSDL_BDDH_10K_TT70_AHK!C126 -> Điều tra đối tượng địa lý và thu nhận dữ liệu thuộc tính ở thực địa | C11: Mảnh quy đổi | D11: 2 | E11: =+ROUND($E$7/45,2) -> 6.8 | F11: 61498661 | G11: =ROUND(E11*F11,0) -> 418190895 | H11: Mục 1.9.2.3 Điều tra đối tượng địa lý và thu nhận dữ liệu thuộc tính ở thực địa tỷ lệ 1:10.000 (KK2) - Thông tư số 70/2025/TT-BNNMT ngày 28/11/2025
A12: 9 | B12: Thành lập bản đồ gốc hiện chỉnh dạng số tỷ lệ 1:10.000 | C12: Mảnh quy đổi | D12: 2 | E12: =+ROUND($E$7/45,2) -> 6.8 | F12: 15167257 | G12: =ROUND(E12*F12,0) -> 103137348 | H12: Thành lập bản đồ địa hình 1:10.000 từ CSDL cùng tỷ lệ - Thông tư số 70/2025/TT-BNNMT ngày 28/11/2025
A13: 10 | B13: Xuất bản đồ theo các định dạng sản phẩm quy định | C13: Mảnh quy đổi | D13: 2 | E13: =+ROUND($E$7/45,2) -> 6.8 | F13: 734729 | G13: =ROUND(E13*F13,0) -> 4996157 | H13: Xuất bản đồ theo các định dạng sẩn phẩm theo quy định - Thông tư số 70/2025/TT-BNNMT ngày 28/11/2025
B14: Tổng cộng trước thuế | G14: =SUM(G6:G13) -> 1169539227
B15: Thuế VAT (8%) | G15: =+G14*8% -> 93563138
B16: Tổng cộng sau thuế | G16: =SUM(G14:G15) -> 1.2631024e+09
B18: Ghi chú khối lượng
B19: Mua tư liệu bản đồ khu vực | C19: Phạm vi khu vực nằm trên 16 tờ bản đồ địa hình quốc gia 1:10.000
B20: Diện tích BĐĐH 1:10.000 = 45km2/ mảnh | C20: === > | D20: 305.78 km2 | E20: / 45 km2 = | F20: =+E13 -> 6.8 | G20: Mảnh quy đổi

Sheet Th.minh QHSX+SDĐ
A1: THUYẾT MINH CÔNG VIỆC VÀ KHỐI LƯỢNG DỰ TOÁN
A2: ='2- Chi phí QHSX+SDĐ'!A2:E2 -> HẠNG MỤC: LẬP QUY HOẠCH SẢN XUẤT VÀ QUY HOẠCH SỬ DỤNG ĐẤT CỦA XÃ NÔNG THÔN
A4: I | B4: Khối lượng, công việc chuyên gia tính toán trong dự toán:
A5: 1 | B5: Chủ nhiệm đồ án quy hoạch: 01 người
A6: - | B6: Nội dung công việc thực hiện:
B7: + Khảo sát hiện trạng và sưu tầm tài liệu;
B8: + Làm việc với các sở ban ngành liên quan đến khu vực lập quy hoạch, Thu thập các tài liệu, đánh giá các dự án, đồ án quy hoạch có liên quan tới khu vực nghiên cứu;
B9: + Biên tập hồ sơ, viết thuyết minh báo cáo: Xây dựng kế hoạch triển khai;
B10: + Rà soát kiểm tra các tài liệu nhằm bảo đảm đúng tiêu chuẩn và chất lượng quy định của từng bộ môn;
B11: + Xây dựng ý tưởng lồng ghép, khớp nối quy hoạch;
B12: + Kiểm tra, chỉnh sửa thuyết minh, báo cáo và bản vẽ của từng bộ môn;
B13: + Tổng hợp thuyết minh, bản vẽ, dự thảo các văn bản liên quan để phục vụ báo cáo và hồ sơ trình thẩm định, phê duyệt.
A14: - | B14: Tiến độ thực hiện: 15 ngày
A15: 2 | B15: Chủ trì thiết kế kiến trúc: 01 người
A16: - | B16: Nội dung công việc thực hiện:
B17: + Khảo sát hiện trạng và sưu tầm tài liệu: Khảo sát hiện trạng;
B18: + Làm việc với các sở ban ngành liên quan đến khu vực lập quy hoạch, Thu thập các tài liệu, đánh giá các dự án, đồ án quy hoạch có liên quan tới khu vực nghiên cứu;
B19: + Biên tập hồ sơ, ghép nối quy hoạch, viết thuyết minh báo cáo: Xây dựng kế hoạch triển khai;
B20: + Rà soát kiểm tra các tài liệu nhằm bảo đảm đúng tiêu chuẩn và chất lượng quy định của từng bộ môn, lập bản vẽ;
B21: + Xây dựng ý tưởng lồng ghép, khớp nối quy hoạch, hoàn thiện bản vẽ;
B22: + Viết thuyết minh, báo cáo phần quy hoạch.
A23: - | B23: Tiến độ thực hiện: 15 ngày
A24: 3 | B24: Chuyên gia thiết kế kiến trúc: 01 người
A25: - | B25: Nội dung công việc thực hiện:
B26: + Khảo sát hiện trạng và sưu tầm tài liệu:
B27: + Làm việc với các sở ban ngành liên quan đến khu vực lập quy hoạch, Thu thập các tài liệu, đánh giá các dự án, đồ án quy hoạch có liên quan tới khu vực nghiên cứu;
B28: + Biên tập hồ sơ, ghép nối quy hoạch, viết thuyết minh báo cáo: Xây dựng kế hoạch triển khai;
B29: + Lập bản vẽ và viết thuyết minh phần quy hoạch theo các tài liệu và ý tưởng được Chủ trì bộ môn thông qua;
B30: + Chỉnh sửa và hoàn thiện bản vẽ, thuyết minh phần quy hoạch sản xuất và quy hoạch sử dụng đất.
A31: - | B31: Tiến độ thực hiện: 08 ngày

Sheet 2- Chi phí QHSX+SDĐ
A1: BẢNG 2 - TỔNG HỢP DỰ TOÁN CHI PHÍ TƯ VẤN
A2: HẠNG MỤC: LẬP QUY HOẠCH SẢN XUẤT VÀ QUY HOẠCH SỬ DỤNG ĐẤT CỦA XÃ NÔNG THÔN
E3: ĐVT: đồng
A4: STT | B4: Khoản mục chi phí | C4: Diễn giải cách tính | D4: Thành tiền | E4: Ghi chú
A5: 1 | B5: Chi phí chuyên gia | C5: Theo bảng tính | D5: ='Lương CG'!H11 -> 43380000 | E5: Ccg
A6: 2 | B6: Chi phí quản lý | C6: 50% × Ccg | D6: =50%*D5 -> 21690000 | E6: Cql
A7: 3 | B7: Chi phí khác | D7: 0 | E7: Ck
A8: 4 | B8: Thu nhập chịu thuế tính trước | C8: 6% × (Ccg+Cql) | D8: =6%*(D5+D6) -> 3904200 | E8: TL
A9: 5 | B9: Thuế giá trị gia tăng | C9: 8% × (Ccg+Cql+Ck+TL) | D9: =8%*(D5+D6+D7+D8) -> 5517936 | E9: T
A10: 6 | B10: Chi phí dự phòng | C10: 0% × (Ccg+Cql+Ck+TL+T) | D10: =0%*(D5+D6+D7+D8+D9) -> 0 | E10: Cdp
B11: Tổng cộng | C11: Ccg+Cql+Ck+TL+T+Cdp | D11: =ROUND(SUM(D5:D10),0) -> 74492136 | E11: Ctv
D14: ='Tổng hợp'!J8/'Tổng hợp'!J7 -> 0.25649357

Sheet Lương CG
H1: Mẫu số 12.1
A2: BẢNG 2.1 - CHI TIẾT THÙ LAO CHO CHUYÊN GIA
A3: ='2- Chi phí QHSX+SDĐ'!A2:E2 -> HẠNG MỤC: LẬP QUY HOẠCH SẢN XUẤT VÀ QUY HOẠCH SỬ DỤNG ĐẤT CỦA XÃ NÔNG THÔN
H4: Đơn vị tính: VNĐ
A5: STT | B5: Chuyên gia thực hiện | C5: Vị trí dự kiến | D5: Lương chuyên gia (theo Thông tư 004/2025/TT-BNV ngày 07/05/2025) | G5: Số ngày làm việc | H5: Thù lao cho chuyên gia
D6: Số năm kinh nghiệm | E6: Lương/ tháng | F6: Lương/ ngày
A7: -1 | B7: -2 | C7: -3 | D7: -4 | E7: -5 | F7: (6)=(5)/26 | G7: -7 | H7: (8)=(6)x(7)
A8: 1 | B8: Chuyên gia 01 | C8: Chủ nhiệm đồ án quy hoạch | D8: ≥7 năm | E8: 31980000 | F8: =E8/26 -> 1230000 | G8: 15 | H8: =G8*F8 -> 18450000 | J8: 1230000 | K8: =J8*26 -> 31980000
A9: 2 | B9: Chuyên gia 02 | C9: Chủ trì thiết kế bộ môn kiến trúc | D9: ≥5 năm | E9: 29900000 | F9: =E9/26 -> 1150000 | G9: =G8 -> 15 | H9: =F9*G9 -> 17250000 | J9: 960000 | K9: =J9*26 -> 24960000
A10: 3 | B10: Chuyên gia 03 | C10: Chuyên gia thiết kế bộ môn kiến trúc | D10: ≥3 năm | E10: 24960000 | F10: =E10/26 -> 960000 | G10: 8 | H10: =F10*G10 -> 7680000 | J10: 770000 | K10: =J10*26 -> 20020000
B11: Tổng cộng | G11: =SUM(G8:G10) -> 38 | H11: =SUM(H8:H10) -> 43380000

Sheet CP khác
A1: BẢNG 2.2 - CHI PHÍ KHÁC CHO CHUYÊN GIA
A2: ='Lương CG'!A3:H3 -> HẠNG MỤC: LẬP QUY HOẠCH SẢN XUẤT VÀ QUY HOẠCH SỬ DỤNG ĐẤT CỦA XÃ NÔNG THÔN
A4: STT | B4: Diễn giải | C4: ĐVT | D4: Khối lượng | E4: Đơn giá (đồng/ĐVT) | F4: Thành tiền (đồng) | G4: Ghi chú
A5: -1 | B5: -2 | C5: -3 | D5: -4 | E5: -5 | F5: -6 | G5: -7
A6: 1 | B6: Khấu hao thiết bị văn phòng | F6: =SUBTOTAL(9,F7:F8) -> 581492.4
A7: 1.1 | B7: Máy tính (1 tháng x 5 máy x 9.832.848đ/máy/5 năm/12 tháng) | C7: máy | D7: ='Lương CG'!A10 -> 3 | E7: =1*9832848/5/12 -> 163880.8 | F7: =D7*E7 -> 491642.4
A8: 1.2 | B8: Máy in (1 tháng x 1 máy x 5.391.000đ/máy/5 năm/12 tháng) | C8: máy | D8: 1 | E8: =1*5391000/5/12 -> 89850 | F8: =D8*E8 -> 89850
A9: 2 | B9: Chi phí in ấn, photo văn phòng phẩm | F9: =SUBTOTAL(9,F10:F23) -> 1000000
A10: 2.1 | B10: Chi phí văn phòng phẩm (Bao gồm giấy in A4, mực in A4, bút, dụng cụ đóng tệp, gim …) | C10: tháng | D10: 1 | E10: 1000000 | F10: =D10*E10 -> 1000000
A11: 2.2 | B11: Chi phí in ấn, photo
A12: 2.2.1 | B12: In trình họp (2 lần họp)
B13: In màu A0 (2 tờ × 3 bộ × 2 lần họp) | C13: trang | D13: =2*3*2 -> 12 | E13: 40000
B14: Thuyết minh tổng hợp A4:
B15: - In đen trắng (1 bộ × 2 lần họp) | C15: trang | D15: =D21*2 -> 120 | E15: 600
B16: - Photo đen trắng (9 bộ × 2 lần họp) | C16: trang | D16: =D15*9 -> 1080 | E16: 300
B17: - Đóng quyển | C17: bộ | D17: =10*2 -> 20 | E17: 20000
A18: 2.2.2 | B18: In nộp bài
B19: In màu A0 (5 tờ × 6 bộ) | C19: trang | D19: =6*5 -> 30 | E19: 40000
B20: Thuyết minh tổng hợp A4:
B21: - In đen trắng (1 bộ) | C21: trang | D21: 60 | E21: 600
B22: - Photo đen trắng (5 bộ) | C22: trang | D22: =D21*(D23-1) -> 300 | E22: 300
B23: - Đóng quyển | C23: bộ | D23: 6 | E23: 2000
A24: 3 | B24: Chi phí khác | F24: =SUBTOTAL(9,F25) -> 500000
B25: Chi phí mua USB 32Gb (Sandisk SDCZ71 Cruzer Force hoặc tương đương) | C25: cái | D25: 1 | E25: 500000 | F25: =D25*E25 -> 500000
B26: Tổng cộng | F26: =SUBTOTAL(9,F6:F25) -> 2081492.4

Sheet 3- Lấy ý kiến QH
A1: BẢNG 3 - CHI PHÍ TỔ CHỨC LẤY Ý KIẾN CỘNG ĐỒNG DÂN CƯ ĐỒ ÁN QUY HOẠCH
A2: =Bìa!A12 -> ĐỒ ÁN: QUY HOẠCH CHUNG XÂY DỰNG XÃ CHÂU SƠN, TỈNH LẠNG SƠN ĐẾN NĂM 2045, TỶ LỆ 1/10.000
A4: STT | B4: Khoản mục chi phí | C4: Đơn vị | D4: Khối lượng | E4: Đơn giá (đồng/ĐVT) | F4: Giá trị (đồng) | G4: Ghi chú
A5: 1 | B5: Chủ trì công bố | C5: người | D5: =(4/2)*1 -> 2 | E5: 500000 | F5: =D5*E5 -> 1000000 | G5: Vận dụng Thông tư 03/2023/TT-BTC ngày 10/01/2023
A6: 2 | B6: Thư ký | C6: người | D6: =(4/2)*1 -> 2 | E6: 150000 | F6: =D6*E6 -> 300000 | G6: Vận dụng Thông tư 03/2023/TT-BTC ngày 10/01/2023
A7: 3 | B7: Đại biểu: Đại diện UBND xã, phòng ban, Sở - Số lượng đại biểu dự kiến cho 1 lần lấy ý kiến là 10 người, mỗi ngày lấy ý kiến tại 2 địa điểm; - Xã Châu Sơn dự kiến có 24 thôn, tạm tính lấy ý kiến tại 4 xã trước sáp nhập; | C7: người | D7: =(4/2)*10-D5-D6 -> 16 | E7: 200000 | F7: =D7*E7 -> 3200000 | G7: Vận dụng Thông tư 03/2023/TT-BTC ngày 10/01/2023
A8: 4 | B8: Đại biểu: Đại diện cộng đồng dân cư - Số lượng đại biểu đại diện cộng đồng dân cư 1 thôn dự kiến 6 người; - Xã Châu Sơn dự kiến có 24 thôn; | C8: người | D8: =6*24 -> 144 | E8: 100000 | F8: =D8*E8 -> 14400000 | G8: Vận dụng Thông tư 03/2023/TT-BTC ngày 10/01/2023
A9: 5 | B9: Giải khát giữa giờ (trà, nước, hoa quả, …), bao gồm đại biểu xã, phòng ban, Sở và đại biểu đại diện cộng đồng dân cư | C9: người | D9: =SUM(D5:D8) -> 164 | E9: 50000 | F9: =D9*E9 -> 8200000 | G9: Thông tư 12/2025/TT-BTC ngày 19/03/2025
A10: 6 | B10: In phát phiếu lấy ý kiến và tổng hợp lấy ý kiến | C10: gói | D10: 1 | E10: 500000 | F10: =D10*E10 -> 500000 | G10: Tạm tính
A11: 7 | B11: In hồ sơ quy hoạch căng treo lấy ý kiến (dự kiến 4 bộ tại 4 xã trước sáp nhập) | G11: Tạm tính
A12: - | B12: In bản vẽ:
B13: + In màu A0 (11 tờ × 4 bộ) | C13: trang | D13: =11*$D$18 -> 44 | E13: 40000 | F13: =D13*E13 -> 1760000
B14: + In màu A3 (11 tờ × 4 bộ) | C14: trang | D14: =11*$D$18 -> 44 | E14: 8000 | F14: =D14*E14 -> 352000
A15: - | B15: Thuyết minh tổng hợp A4:
B16: + In đen trắng (1 bộ) | C16: trang | D16: 150 | E16: 600 | F16: =D16*E16 -> 90000
B17: + Photo đen trắng (3 bộ) | C17: trang | D17: =D16*(D18-1) -> 450 | E17: 300 | F17: =D17*E17 -> 135000
B18: + Đóng quyển | C18: bộ | D18: 4 | E18: 20000 | F18: =D18*E18 -> 80000
B19: Tổng cộng | F19: =SUBTOTAL(9,F5:F18) -> 30017000

Sheet 4- Công bố QH
A1: BẢNG 4 - CHI PHÍ CÔNG BỐ QUY HỌACH
A2: =Bìa!A12 -> ĐỒ ÁN: QUY HOẠCH CHUNG XÂY DỰNG XÃ CHÂU SƠN, TỈNH LẠNG SƠN ĐẾN NĂM 2045, TỶ LỆ 1/10.000
A4: STT | B4: Khoản mục chi phí | C4: Đơn vị | D4: Khối lượng | E4: Đơn giá (đồng/ĐVT) | F4: Giá trị (đồng) | G4: Ghi chú
A5: 1 | B5: Chủ trì công bố | C5: người | D5: 1 | E5: 500000 | F5: =D5*E5 -> 500000 | G5: Vận dụng Thông tư 03/2023/TT-BTC ngày 10/01/2023
A6: 2 | B6: Thư ký | C6: người | D6: 1 | E6: 150000 | F6: =D6*E6 -> 150000 | G6: Vận dụng Thông tư 03/2023/TT-BTC ngày 10/01/2023
A7: 3 | B7: Đại biểu: Đại diện UBND xã, phòng ban, Sở | C7: người | D7: =10-D5-D6 -> 8 | E7: 200000 | F7: =D7*E7 -> 1600000 | G7: Vận dụng Thông tư 03/2023/TT-BTC ngày 10/01/2023
A8: 4 | B8: Đại biểu: Đại diện cộng đồng dân cư - Số lượng đại biểu đại diện cộng đồng dân cư 1 thôn dự kiến 6 người; - Xã Châu Sơn dự kiến có 24 thôn; | C8: người | D8: =24*6 -> 144 | E8: 100000 | F8: =D8*E8 -> 14400000 | G8: Vận dụng Thông tư 03/2023/TT-BTC ngày 10/01/2023
A9: 5 | B9: Giải khát giữa giờ (trà, nước, hoa quả, …), bao gồm đại biểu xã, phòng ban, Sở và đại biểu đại diện cộng đồng dân cư | C9: người | D9: =SUM(D5:D8) -> 154 | E9: 50000 | F9: =D9*E9 -> 7700000 | G9: Thông tư 12/2025/TT-BTC ngày 19/03/2025
A10: 6 | B10: In phát tờ rơi công bố | C10: tờ | D10: =D8 -> 144 | E10: 55000 | F10: =D10*E10 -> 7920000 | G10: Tạm tính
B11: Tổng cộng | F11: =SUBTOTAL(9,F5:F10) -> 32270000

Sheet Nội suy
C1: VÍ DỤ NỘI SUY GIÁ TRỊ BẰNG HÀM TREND
B3: Cú pháp lệnh: TREND(known_y's,known_x's,new_x's,const)
A4: 1 | B4: Chi phí lập đồ án quy hoạch
A5: Bảng 2 - TT 17/2025-BXD | C5: Quy mô dân số (người) | D5: Định mức (trđ)
C6: 10000 | D6: 268
C7: 15000 | D7: 306
B8: Diện tích dự án: | C8: ='Căn cứ lập'!B5 -> 10120
B9: Kết quả nội suy | D9: =TREND(D6:D7,C6:C7,C8) -> 268.912
A11: 3 | B11: Chi phí lập nhiệm vụ quy hoạch
A12: =A5 -> Bảng 2 - TT 17/2025-BXD | C12: =C5 -> Quy mô dân số (người) | D12: Định mức (trđ)
C13: =C6 -> 10000 | D13: 37
C14: =C7 -> 15000 | D14: 41
B15: =B8 -> Diện tích dự án: | C15: =C8 -> 10120
B16: Kết quả nội suy | D16: =TREND(D13:D14,C13:C14,C15) -> 37.096
A18: 3 | B18: Chi phí tư vấn đấu thầu tư vấn
B19: VÝ dô
A20: Bảng số 4 | C20: Gi¸ trÞ x©y l¾p (tû) | D20: t­ vÊn (%)
C21: 1 | D21: 0.816
C22: 3 | D22: 0.583
B23: Gi¸ trÞ XL ctr×nh cña b¹n | C23: ='[11]Tong hop '!#REF!/1000000000 -> #REF!
B25: KÕt qu¶ néi suy | D25: =TREND(D21:D22,C21:C22,C23) -> #VALUE!
A26: 4 | B26: Chi phí thẩm định đồ án quy hoạch
A27: TT 35/2023-BTC | C27: CP lập đồ án (trđ) | D27: Định mức (%)
C28: 200 | D28: 12.3
C29: 500 | D29: 9.7
B30: Giá trị dự án: | C30: ='Tổng hợp'!F10/1000000 -> 337.8862
B31: Kết quả nội suy | D31: =TREND(D28:D29,C28:C29,C30) -> 11.104986
A33: 4.1 | B33: Chi phí thẩm định nhiệm vụ quy hoạch (Vận dụng)
A34: =A27 -> TT 35/2023-BTC | C34: CP lập nhiệm vụ đồ án (trđ) | D34: Định mức (%)
C35: 200 | D35: 12.3
C36: 200 | D36: 12.3
B37: Giá trị dự án: | C37: ='Tổng hợp'!#REF!/1000000 -> #REF!
B38: Kết quả nội suy | D38: =TREND(D35:D36,C35:C36,C37) -> #VALUE!
A40: 5 | B40: Chi phí quản lý nghiệp vụ công tác lập quy hoạch
A41: Bảng 8 - TT 17/2025-BXD | C41: CP lập đồ án (trđ) | D41: Định mức (%)
C42: 200 | D42: 10.6
C43: 500 | D43: 8.8
B44: Giá trị dự án: | C44: =C30 -> 337.8862
B45: Kết quả nội suy | D45: =TREND(D42:D43,C42:C43,C44) -> 9.7726828
A47: 5 | B47: Chi phí tư vấn đấu thầu
A48: Bảng 2.18 - TT 12/2021-BXD | C48: CP gói thầu tư vấn (tỷ đồng) | D48: Định mức (%)
C49: 1 | D49: 0.816
C50: 3 | D50: 0.583
B51: Giá trị dự án: | C51: ='Tổng hợp'!F15/1000000000 -> 1.1695392
B52: Kết quả nội suy | D52: =TREND(D49:D50,C49:C50,C51) -> 0.79624868
A54: 5 | B54: Chi phí giám sát kháo sát
C55: CP gói thầu KSĐH (tỷ đồng) | D55: Định mức (%)
C56: 1 | D56: 4.072
C57: 5 | D57: 3.541
B58: Giá trị dự án: | C58: ='Tổng hợp'!J5/1.08/1000000000 -> 1.1695392
B59: Kết quả nội suy | D59: =TREND(D56:D57,C56:C57,C58) -> 4.0494937

Sheet Căn cứ lập
A1: BẢNG TÍNH CHI PHÍ LẬP ĐIỀU CHỈNH QUY HOẠCH
A2: =Bìa!A12 -> ĐỒ ÁN: QUY HOẠCH CHUNG XÂY DỰNG XÃ CHÂU SƠN, TỈNH LẠNG SƠN ĐẾN NĂM 2045, TỶ LỆ 1/10.000
A4: Quy mô diện tích (ha) | B4: Dân số dự kiến đến năm 2045 (người) | C4: Định mức chi phí lập QH (theo Bảng 2 - Thông tư 17/2025) | D4: Chi phí lập QH sản xuất, QH SDĐ (25%) | E4: Thuế VAT (8%) | F4: Chi phí điều chỉnh QHC (50%)
A5: 30578 | B5: 10120 | C5: ='Nội suy'!D9*1000000 -> 2.68912e+08 | D5: 0 | E5: =(C5+D5)*0.08 -> 21512960 | F5: =SUM(C5:E5)*0.5 -> 1.4521248e+08

Sheet Kế hoạch
A1: KẾ HOẠCH TỔ CHỨC THỰC HIỆN
A2: =Bìa!A12 -> ĐỒ ÁN: QUY HOẠCH CHUNG XÂY DỰNG XÃ CHÂU SƠN, TỈNH LẠNG SƠN ĐẾN NĂM 2045, TỶ LỆ 1/10.000
A3: STT | B3: Nội dung thực hiện | C3: Thời gian thực hiện | D3: Thời gian hoàn thành | E3: Đơn vị thực hiện | F3: Đơn vị phối hợp thực hiện | H3: 46092
A4: I | B4: Lập nhiệm vụ quy hoạch chung | H4: =H3-15 -> 46077
A5: Bước 1 | B5: Lập, thẩm định và phê duyệt dự toán chi phí lập nhiệm vụ quy hoạch | C5: 15 ngày | D5: Tháng 03/2026 | E5: Phòng Kinh tế | F5: UBND xã Châu Sơn | G5: 15 | H5: =G5+H4 -> 46092
A6: Bước 2 | B6: Trình, phê duyệt kế hoạch lựa chọn nhà thầu; | C6: 5 ngày | D6: Tháng 03/2026 | E6: Phòng Kinh tế | G6: 5 | H6: =G6+H5 -> 46097
A7: Bước 3 | B7: Lựa chọn đơn vị tư vấn lập nhiệm vụ quy hoạch và dự toán quy hoạch (theo quy định của Luật đấu thầu) | C7: 5 ngày | D7: Tháng 03/2026 | E7: Phòng Kinh tế | G7: 5 | H7: =G7+H6 -> 46102
A8: Bước 4 | B8: Lập nhiệm vụ quy hoạch và dự toán quy hoạch | C8: 30 ngày | D8: Tháng 04/2026 | E8: Phòng Kinh tế thuê tư vấn lập nhiệm vụ quy hoạch | F8: UBND xã Châu Sơn và các sở, ngành, đơn vị có liên quan | G8: 30 | H8: =G8+H7 -> 46132
A9: Bước 5 | B9: Tổ chức lấy ý kiến các cơ quan quản lý nhà nước có liên quan | C9: 7 ngày làm việc | D9: Tháng 04/2026 | E9: Phòng Kinh tế | F9: UBND xã Châu Sơn và các sở, ngành, đơn vị có liên quan và đơn vị tư vấn lập nhiệm vụ quy hoạch | G9: =7+2 -> 9 | H9: =G9+H8 -> 46141
A10: Bước 6 | B10: Tổng hợp, tiếp thu, giải trình các ý kiến tham gia của các cơ quan quản lý nhà nước có liên quan, hoàn thiện hồ sơ nhiệm vụ quy hoạch | C10: 7 ngày | D10: Tháng 05/2026 | E10: Đơn vị tư vấn lập nhiệm vụ quy hoạch | F10: Phòng Kinh tế | G10: 7 | H10: =G10+H9 -> 46148
A11: Bước 7 | B11: Trình thẩm định nhiệm vụ quy hoạch và dự toán quy hoạch | C11: 2 ngày | D11: Tháng 05/2026 | E11: UBND xã Châu Sơn | F11: Phòng Kinh tế và đơn vị tư vấn lập nhiệm vụ quy hoạch | G11: 2 | H11: =G11+H10 -> 46150
A12: Bước 8 | B12: Thẩm định nhiệm vụ quy hoạch và dự toán quy hoạch | C12: 15 ngày | D12: Tháng 05/2026 | E12: Sở Xây dựng tỉnh Lạng Sơn | F12: UBND xã Châu Sơn, đơn vị tư vấn lập nhiệm vụ quy hoạch | G12: 15 | H12: =G12+H11 -> 46165
A13: Bước 9 | B13: Họp Hội đồng thẩm định nhiệm vụ quy hoạch | C13: 5 ngày | D13: Tháng 05/2026 | E13: Hội đồng thẩm định quy hoạch tỉnh Lạng Sơn quy định tại khoản 3, Điều 40 Luật QHĐT&NT | F13: UBND xã Châu Sơn và đơn vị tư vấn lập nhiệm vụ quy hoạch | G13: 5 | H13: =G13+H12 -> 46170
A14: Bước 10 | B14: Phê duyệt Nhiệm vụ quy hoạch và dự toán quy hoạch | C14: 5 ngày | D14: Tháng 06/2026 | E14: UBND tỉnh Lạng Sơn | F14: Sở Xây dựng, UBND xã Châu Sơn và đơn vị tư vấn lập nhiệm vụ quy hoạch | G14: 5 | H14: =G14+H13 -> 46175
A15: II | B15: Lập quy hoạch chung
A16: Bước 1 | B16: Lập, phê duyệt kế hoạch lựa chọn nhà thầu | C16: 5 ngày | D16: Tháng 06/2026 | E16: Phòng Kinh tế | G16: 5 | H16: =G16+H14 -> 46180
A17: Bước 2 | B17: Tổ chức lựa chọn đơn vị tư vấn khảo sát, lập quy hoạch, giám sát khảo sát ... (theo quy định của Luật Đấu thầu) | C17: 7 ngày | D17: Tháng 06/2026 | E17: Phòng Kinh tế | F17: Đơn vị tư vấn lựa chọn nhà thầu | G17: 7 | H17: =G17+H16 -> 46187
A18: Bước 3 | B18: Khảo sát, đo vẽ, lập hồ sơ quy hoạch | C18: 270 ngày | D18: Tháng 03/2027 | E18: Đơn vị tư vấn lập quy hoạch | F18: Phòng Kinh tế, UBND xã Châu Sơn và các sở ban ngành có liên quan | G18: =9*30 -> 270 | H18: =G18+H17 -> 46457
A19: Bước 4 | B19: Tổ chức lấy ý kiến các cơ quan quản lý nhà nước, tổ chức và chuyên gia có liên quan | C19: 7 ngày làm việc | D19: Tháng 03/2027 | E19: Phòng Kinh tế | F19: Các cơ quan, tổ chức trên địa bàn xã Châu Sơn, các sở ban ngành và đơn vị tư vấn lập quy hoạch | G19: 7 | H19: =G19+H18+2 -> 46466
A20: Bước 5 | B20: Tổng hợp, tiếp thu, giải trình các ý kiến tham gia của các cơ quan quản lý nhà nước, tổ chức và chuyên gia có liên quan, hoàn thiện hồ sơ đồ án quy hoạch | C20: 7 ngày | D20: Tháng 03/2027 | E20: Đơn vị tư vấn lập quy hoạch | F20: Phòng Kinh tế | G20: 7 | H20: =G20+H19 -> 46473
A21: Bước 6 | B21: Lấy ý kiến cộng đồng dân cư | C21: 30 ngày | D21: Tháng 04/2027 | E21: Phòng Kinh tế | F21: Các phòng ban trực thuộc UBND xã Châu Sơn và đơn vị tư vấn lập quy hoạch | G21: 30 | H21: =G21+H20 -> 46503
A22: Bước 7 | B22: Tiếp thu, hoàn thiện hồ sơ đồ án quy hoạch trình thẩm định | C22: 10 ngày | D22: Tháng 05/2027 | E22: Đơn vị tư vấn lập quy hoạch | F22: Phòng Kinh tế | G22: 10 | H22: =G22+H21 -> 46513
A23: Bước 8 | B23: Trình thẩm định đồ án quy hoạch | C23: 2 ngày | D23: Tháng 05/2027 | E23: UBND xã Châu Sơn | F23: Phòng Kinh tế và đơn vị tư vấn lập nhiệm vụ quy hoạch | G23: 2 | H23: =G23+H22 -> 46515
A24: Bước 9 | B24: Thẩm định đồ án quy hoạch | C24: 30 ngày | D24: Tháng 06/2027 | E24: Sở Xây dựng | F24: UBND xã Châu Sơn, đơn vị tư vấn lập quy hoạch | G24: 30 | H24: =G24+H23 -> 46545
A25: Bước 10 | B25: Họp Hội đồng thẩm định đồ án quy hoạch | C25: 5 ngày | D25: Tháng 06/2027 | E25: Hội đồng thẩm định | F25: UBND xã Châu Sơn, đơn vị tư vấn lập quy hoạch | G25: 5 | H25: =G25+H24 -> 46550
A26: Bước 11 | B26: Tổng hợp, tiếp thu và hoàn thiện hồ sơ trình phê duyệt đồ án quy hoạch | C26: 10 ngày | D26: Tháng 06/2027 | E26: Đơn vị tư vấn lập quy hoạch | F26: Phòng Kinh tế | G26: 10 | H26: =G26+H25 -> 46560
A27: Bước 12 | B27: Phê duyệt đồ án quy hoạch | C27: 15 ngày | D27: Tháng 07/2027 | E27: UBND tỉnh Lạng Sơn | F27: Sở Xây dựng, UBND xã Châu Sơn, đơn vị tư vấn lập quy hoạch | G27: 15 | H27: =G27+H26 -> 46575
A28: Bước 13 | B28: Công bố đồ án quy hoạch | C28: 15 ngày | D28: Tháng 07/2027 | E28: Phòng Kinh tế | F28: UBND xã Châu Sơn, đơn vị tư vấn lập quy hoạch | G28: 15 | H28: =G28+H27 -> 46590
