Workbook
Name _list: INDIRECT([3]Ts!$M$16)
Name Baocao_: '[3]TMDT-All-in-one'!$N$8
Name BTK: '[3]TMDT-All-in-one'!$L$6
Name CCT: '[3]TMDT-All-in-one'!$L$5
Name CPDP_CP1: '[3]Du phong'!$C$10
Name CPDP_GDP1: '[3]Du phong'!$C$58
Name CPDP_PS1: '[3]Du phong'!$C$15
Name dien: [3]Ts!$N$79
Name diezel: [3]Ts!$N$78
Name Document_array: {"Book1"}
Name flist: [3]Ts!$BG$4:INDEX([3]Ts!$BG$4:$BG$34,COUNTIF([3]Ts!$BG$4:$BG$34,"?*"))
Name GetColumn: "["&COLUMN()&"]"
Name GKS: '[3]TMDT-All-in-one'!$R$12
Name GQLDA: '[3]TMDT-All-in-one'!$L$36
Name GTBtt: '[3]TMDT-All-in-one'!$L$25
Name GTTB: '[3]TMDT-All-in-one'!$R$8
Name GTTC: '[3]TMDT-All-in-one'!$R$7
Name GTTV: '[3]TMDT-All-in-one'!$R$9
Name GXDtt: '[3]TMDT-All-in-one'!$L$18
Name LoaiCongTrinh: '[3]TMDT-All-in-one'!$L$4
Name PercentComplete: PercentCompleteBeyond*PeriodInPlan
Name PercentComplete: PercentCompleteBeyond*PeriodInPlan
Name TaxTV: 10%
Name TaxXL: 5%
Name THCP_NC: '[3]THCP xay dung'!$D$44
Name THCP_T: '[3]THCP xay dung'!$D$46
Name THLD_C: '[6]THCP Lap dat'!$D$18
Name THLD_CPDP: '[6]THCP Lap dat'!$D$23
Name THLD_hsCPDP: '[6]THCP Lap dat'!$F$23
Name THLD_hsGTGT: '[6]THCP Lap dat'!$F$21
Name THLD_hsTL: '[6]THCP Lap dat'!$F$19
Name THLD_M: '[6]THCP Lap dat'!$D$16
Name THLD_NC: '[6]THCP Lap dat'!$D$15
Name THLD_TL: '[6]THCP Lap dat'!$D$19
Name THLD_VL: '[6]THCP Lap dat'!$D$14
Name TL_BCNCKT: [3]DMTL!$T$49
Name TL_BCNCTKT1: [3]DMTL!$T$39
Name TL_GSTB: [3]DMTL!$T$254
Name TL_GSXD: [3]DMTL!$T$244
Name TL_Ktoan: [3]DMTL!$T$276
Name TL_LDA_BCKTKT: [3]DMTL!$T$59
Name TL_PTDDTXD: [3]DMTL!$T$304
Name TL_PTDDTXD1: [3]DMTL!$T$324
Name TL_PTDTKKT: [3]DMTL!$T$295
Name TL_PTDTKKT1: [3]DMTL!$T$315
Name TL_QDV: [3]DMTL!$T$268
Name TL_TDDA: [3]DMTL!$T$281
Name TL_TKKT: [3]DMTL!$D$67
Name TL_TTHQKT: [3]DMTL!$T$189
Name TL_TTraDT: [3]DMTL!$T$209
Name TL_TTraQTV: [3]DMTL!$T$277
Name TL_TTraTK: [3]DMTL!$T$199
Name TMDT: '[3]TMDT-All-in-one'!$R$5
Name TMDTSLT: '[3]TMDT-All-in-one'!$R$6
Name TMDTTT: '[3]TMDT-All-in-one'!$R$4
Name TPLD_hsCPC: '[6]THCP Lap dat'!$F$18
Name TT_TTBCNCTKT1: [3]DMTL!$T$179
Name TVDT: '[3]TMDT-All-in-one'!$R$13
Name xang: [3]Ts!$N$77

Sheet foxz

Sheet Bìa
A2: CỘNG HÒA XÃ HỘI CHỦ NGHĨA VIỆT NAM
A3: Độc lập - Tự do - Hạnh phúc
A10: DỰ TOÁN CHI PHÍ
A12: ĐỒ ÁN: QUY HOẠCH CHUNG XÃ TUẤN SƠN, TỈNH LẠNG SƠN ĐẾN NĂM 2045
A13: ĐỊA ĐIỂM: XÃ TUẤN SƠN, TỈNH LẠNG SƠN
A28: LẠNG SƠN, NĂM 2026 | E28: B¾c ninh, 5/2007

Sheet Thuyết minh
A1: CỘNG HOÀ XÃ HỘI CHỦ NGHĨA VIỆT NAM
A2: Độc lập - Tự do - Hạnh phúc
A3: --------***-------
A5: THUYẾT MINH DỰ TOÁN
A7: I. Cơ sở lập dự toán:
A8: - | B8: Luật Quy hoạch đô thị và Nông thôn số 47/2024/QH15, ngày 26/11/2024; Luật số 144/2025/QH15 sửa đổi, bổ sung một số điều của Luật Quy hoạch đô thị và Nông thôn, ngày 11/12/2025;
A9: - | B9: Luật Đấu thầu số 22/2023/QH15, ngày 23/06/2023;
A10: - | B10: Nghị định số 174/2025/NĐ-CP ngày 30/06/2025 của Chính phủ quy định chính sách giảm thuế Giá trị gia tăng theo Nghị quyết số 204/2025/QH15 ngày 17/06/2025 của Quốc hội;
A11: - | B11: Nghị định số 178/2025/NĐ-CP ngày 01/07/2025 của Chính phủ quy định chi tiết một số điều của Luật Quy hoạch đô thị và nông thôn; Nghị định số 34/2026/NĐ-CP ngày 22/01/2026 của Chính phủ sửa đổi, bổ sung một số điều của nghị định số 178/2025/NĐ-CP ngày 01/07/2025 của Chính phủ quy định chi tiết một số điều của luật Quy hoạch đô thị và Nông thôn;
A12: - | B12: Nghị định số 214/2025/NĐ-CP ngày 04/08/2025 của Chính phủ quy định chi tiết một số điều và biện pháp thi hành luật đấu thầu về lựa chọn nhà thầu;
A13: - | B13: Nghị định số 104/2026/NĐ-CP ngày 31/03/2026 của Chính phủ quy định việc lập dự toán, quản lý, sử dụng và quyết toán chi thường xuyên để thực hiện các nhiệm vụ quy định tại Điều 40 Luật Ngân sách Nhà nước;
A14: - | B14: Nghị định số 161/2026/NĐ-CP ngày 15/05/2026 của Chính phủ quy định mức lương cơ sở và chế độ tiền thưởng đối với cán bộ, công chức, viên chức và lực lượng vũ trang;
A15: - | B15: Thông tư số 10/2021/TT-BXD ngày 25/08/2021 của Bộ Xây dựng hướng dẫn một số điều và biện pháp thi hành nghị định số 06/2021/NĐ-CP ngày 26/01/2021 và Nghị định số 44/2016/NĐ-CP ngày 15/5/2016 của Chính phủ;
A16: - | B16: Thông tư số 35/2023/TT-BTC ngày 31/05/2023 của Bộ Tài chính quy định mức thu, chế độ thu, nộp, quản lý và sử dụng phí thẩm định các đồ án quy hoạch;
A17: - | B17: Thông tư số 47/2024/TT-BTC ngày 10/07/2024 của Bộ Tài chính quy định mức thu, chế độ thu, nộp, miễn, quản lý và sử dụng phí khai thác, sử dụng thông tin dữ liệu đo đạc và bản đồ;
A18: - | B18: Thông tư số 12/2025/TT-BTC ngày 19/03/2025 của Bộ Tài chính sửa đổi, bổ sung một số điều của Thông tư số 40/2017/TT-BTC ngày 28/04/2017 của Bộ trưởng Bộ Tài chính quy định chế độ công tác phí, chế độ chi hội nghị;
A19: - | B19: Thông tư số 17/2025/TT-BXD ngày 30/06/2025 của Bộ Xây dựng ban hành định mức, phương pháp lập và quản lý chi phí cho hoạt động quy hoạch đô thị và nông thôn;
... A23: - | B23: Thông tư số 38/2026/TT-BXD ngày 26/06/2026 của Bộ Xây dựng ban hành định mức xây dựng;
A25: II. Giá trị tổng dự toán: | C25: ='Tong hop '!I21 -> 1344367000 | D25: đồng
B26: ='Tong hop '!A22 -> (Bằng chữ: Một tỷ, ba trăm bốn mươi bốn triệu, ba trăm sáu mươi bảy nghìn đồng./.)

Sheet Tong hop 
A1: TỔNG HỢP DỰ TOÁN CHI PHÍ
A2: =Bìa!A12 -> ĐỒ ÁN: QUY HOẠCH CHUNG XÃ TUẤN SƠN, TỈNH LẠNG SƠN ĐẾN NĂM 2045
A4: STT | B4: NỘI DUNG CHI PHÍ | C4: KÝ HIỆU | D4: CÁCH TÍNH | I4: THÀNH TIỀN (VNĐ) | J4: GHI CHÚ
A5: 1 | B5: Chi phí mua và cập nhập bản đồ địa hình tỷ lệ 1/10.000 | C5: G1 | D5: Dự toán chi tiết | I5: =KSĐH!G16 -> 5.5536382e+08 | J5: Dự toán chi tiết
A6: =MAX($A$5:A5)+1 -> 2 | B6: Chi phí lập đồ án quy hoạch chung xây dựng xã (Quy mô dân số đến năm 2045 dự kiến 33.000 người) | C6: G2 | D6: (2.1)+(2.2) | I6: =SUBTOTAL(9,I7:I8) -> 526974000 | J6: Thông tư 17/2025/TT-BXD ngày 30/6/2025
A7: 2.1 | B7: - Chi phí lập đồ án quy hoạch chung xây dựng xã | F7: ='Nội suy'!O21*1000000 -> 395200000 | G7: × | H7: 1.08 | I7: =F7*H7 -> 426816000 | J7: Bảng 2
A8: 2.2 | B8: - Chi phí lập quy hoạch sản xuất và quy hoạch sử dụng đất của xã nông thôn | D8: Dự toán chi tiết | I8: ='CP qhsx+sdd'!D14 -> 100158000
A9: =MAX($A$5:A8)+1 -> 3 | B9: Chi phí lập nhiệm vụ quy hoạch | C9: G3 | D9: QĐ số 1006/QĐ-UBND ngày 01/12/2025 | I9: 48072000
A10: =MAX($A$5:A9)+1 -> 4 | B10: Chi phí tổ chức lấy ý kiến của cơ quan quản lý nhà nước có liên quan về nhiệm vụ quy hoạch | C10: G5 | D10: QĐ số 1006/QĐ-UBND ngày 01/12/2025 | I10: 1699600
A11: =MAX($A$5:A10)+1 -> 5 | B11: Chi phí thẩm định đồ án quy hoạch xây dựng (Tỷ lệ × Giá trị lập đồ án quy hoạch trước thuế) | C11: G6 | D11: ='Nội suy'!K90/100 -> 0.098045296 | E11: × | F11: =I6/1.08 -> 4.8793889e+08 | I11: =D11*F11 -> 47840113 | J11: Thông tư 35/2023/TT-BTC ngày 31/05/2023
A12: =MAX($A$5:A11)+1 -> 6 | B12: Chi phí quản lý việc lập đồ án quy hoạch xây dựng (Tỷ lệ × Giá trị lập đồ án quy hoạch trước thuế) | C12: G7 | D12: ='Nội suy'!K69/100 -> 0.088723667 | E12: × | F12: =I6/1.08 -> 4.8793889e+08 | I12: =D12*F12 -> 43291727 | J12: Bảng 8 - Thông tư 17/2025/TT-BXD ngày 30/06/2025 | K12: 43291727
A13: =MAX($A$5:A12)+1 -> 7 | B13: Chi phí tổ chức lấy ý kiến của cơ quan quản lý nhà nước, tổ chức, chuyên gia và cộng đồng cư dân có liên quan | C13: G8 | D13: Dự toán chi tiết | I13: ='CP lấy ý kiến'!F16 -> 10266000 | J13: Xem dự toán chi tiết
A14: =MAX($A$5:A13)+1 -> 8 | B14: Chi phí công bố quy hoạch | C14: G9 | D14: Dự toán chi tiết | I14: ='CP công bố QH'!D17 -> 14364000 | J14: Xem dự toán chi tiết
A15: =MAX($A$5:A14)+1 -> 9 | B15: Chi phí lập hồ sơ quy hoạch theo hệ thống thông tin địa lý (GIS) | C15: G10 | D15: 0.1 | E15: × | F15: =I6 -> 526974000 | I15: =D15*F15 -> 52697400 | J15: Thông tư 17/2025/TT-BXD ngày 30/06/2025
A16: =MAX($A$5:A15)+1 -> 10 | B16: Chi phí khác | C16: G12 | D16: (10.1)+(10.2)+(10.3) | I16: =SUBTOTAL(9,I17:I19) -> 43798212
A17: 10.1 | B17: - Chi phí lập nhiệm vụ khảo sát | C17: Gnvks | D17: 0.03 | E17: × | F17: =$I$5 -> 5.5536382e+08 | I17: =D17*I5 -> 16660914 | J17: Thông tư 36/2026/TT-BXD ngày 26/06/2026
A18: 10.2 | B18: - Chi phí giám sát công tác khảo sát | C18: Ggsks | D18: ='Nội suy'!H111/100 -> 0.04072 | E18: × | F18: =$I$5 -> 5.5536382e+08 | I18: =D18*I5 -> 22614415 | J18: Bảng 2.26 - Thông tư 38/2026/TT-BXD ngày 26/06/2026
A19: 10.3 | B19: - Chi phí kiểm tra, thẩm định, nghiệm thu chất lượng sản phẩm đo đạc và bản đồ | D19: 0.2 | E19: × | F19: =$I$5 -> 5.5536382e+08 | I19: =D19*I18 -> 4522882.9 | J19: Thông tư 10/2021/TT-BXD ngày 25/08/2021 (vận dụng)
B20: TỔNG CỘNG SAU THUẾ | C20: G | D20: G1+G2+…+G10 | I20: =SUBTOTAL(9,I5:I19) -> 1.3443669e+09
B21: LÀM TRÒN | I21: =ROUND(I20,-3) -> 1344367000
A22: (Bằng chữ: Một tỷ, ba trăm bốn mươi bốn triệu, ba trăm sáu mươi bảy nghìn đồng./.)
A23: Ghi chú: | B23: - Thuế giá trị gia tăng, hệ số: 1,08
D24: ĐƠN VỊ LẬP

Sheet KSĐH
A1: BẢNG 1 - CHI PHÍ KHẢO SÁT ĐỊA HÌNH
A2: =_xlfn.SINGLE('Tong hop '!A2) -> ĐỒ ÁN: QUY HOẠCH CHUNG XÃ TUẤN SƠN, TỈNH LẠNG SƠN ĐẾN NĂM 2045
A3: HẠNG MỤC: KHẢO SÁT, LẬP BẢN ĐỒ ĐỊA HÌNH TỶ LỆ 1:10.000
A5: STT | B5: Nội dung công việc | C5: Đơn vị | D5: Khó khăn | E5: Khối lượng | F5: Đơn giá | G5: Thành tiền | H5: Căn cứ áp dụng
A6: 1 | B6: Mua tư liệu bản đồ khu vực | C6: Mảnh chính quy | E6: 7 | F6: 850000 | G6: =ROUND(E6*F6,0) -> 5950000 | H6: Trang 3 - Phụ lục kèm theo Thông tư số 47/TT-BTC ngày 10/7/2024
A7: 2 | B7: Dữ liệu vệ tinh quang học Pleiades của hãng Airbus: - Dữ liệu: ảnh gốc: Độ phân giải: 0,5m - Mức xử lý: 1A; - Thời gian chụp: Quý II/2025 đến nay | C7: Km2 | E7: 111.31 | F7: 1200000 | G7: =ROUND(E7*F7,0) -> 133572000 | H7: Theo báo giá của đơn vị cung ứng
A8: 3 | B8: Thành lập BĐA vệ tinh | C8: Mảnh quy đổi | D8: 2 | E8: =ROUND($E$7/45,2) -> 2.47 | F8: =[2]DONGIA_CSDL_10K_TT70_2530!Q159 -> 5706753.8 | G8: =ROUND(E8*F8,0) -> 14095682 | H8: Mục 1.6.3 Thành lập Bình đồ ảnh Tỷ lệ 1:10.000 (KK2) - Thông tư số 70/2025/TT-BNNMT ngày 28/11/2025
A9: 4 | B9: =[2]DONGIA_CSDL_10K_TT70_2530!C512 -> Rà soát, phân loại và biên tập nội dung dữ liệu | C9: Mảnh quy đổi | D9: 2 | E9: =ROUND($E$7/45,2) -> 2.47 | F9: =[2]DONGIA_CSDL_10K_TT70_2530!Q521 -> 9229943.2 | G9: =ROUND(E9*F9,0) -> 22797960 | H9: Mục 2.3 Rà soát, phân loại và biên tập nội dung dữ liệu Tỷ lệ 1:10.000 (KK2) - Thông tư số 70/2025/TT-BNNMT ngày 28/11/2025
A10: 5 | B10: Đo vẽ bù chi tiết địa hình (Khoảng cao đều 10m) | C10: Km2 | D10: 3 | E10: =ROUND(E7*5%,2) -> 5.57 | F10: =[2]DONGIA_CSDL_10K_TT70_2530!Q366 -> 26325047 | G10: =ROUND(E10*F10,0) -> 146630514 | H10: Mục 1.9.1.2 Đo bù bằng kỹ thuật GNSS động (KK3) - Thông tư số 70/2025/TT-BNNMT ngày 28/11/2025 (phạm vi thực hiện có biến động địa hình, do vậy khối lượng đo bù chi tiết địa hình được tạm tính bằng 5%)
A11: 6 | B11: =[2]DONGIA_CSDL_10K_TT70_2530!C368 -> Điều tra đối tượng địa lý và thu nhận dữ liệu thuộc tính ở thực địa | C11: Mảnh quy đổi | D11: 2 | E11: =ROUND($E$7/45,2) -> 2.47 | F11: =[2]DONGIA_CSDL_10K_TT70_2530!Q377 -> 61498661 | G11: =ROUND(E11*F11,0) -> 151901693 | H11: Mục 1.9.2.3 Điều tra đối tượng địa lý và thu nhận dữ liệu thuộc tính ở thực địa tỷ lệ 1:10.000 (KK2) - Thông tư số 70/2025/TT-BNNMT ngày 28/11/2025
A12: 7 | B12: Thành lập bản đồ gốc hiện chỉnh dạng số tỷ lệ 1:10.000 | C12: Mảnh quy đổi | D12: 2 | E12: =ROUND($E$7/45,2) -> 2.47 | F12: =[2]DONGIA_BDDH_10K_TT70_2530!O48 -> 15167257 | G12: =ROUND(E12*F12,0) -> 37463126 | H12: Thành lập bản đồ địa hình 1:10.000 từ CSDL cùng tỷ lệ - Thông tư số 70/2025/TT-BNNMT ngày 28/11/2025
A13: 8 | B13: Xuất bản đồ theo các định dạng sản phẩm quy định | C13: Mảnh quy đổi | D13: 2 | E13: =ROUND($E$7/45,2) -> 2.47 | F13: =[2]DONGIA_BDDH_10K_TT70_2530!O61 -> 734728.75 | G13: =ROUND(E13*F13,0) -> 1814780 | H13: Xuất bản đồ theo các định dạng sẩn phẩm theo quy định - Thông tư số 70/2025/TT-BNNMT ngày 28/11/2025
B14: Tổng cộng trước thuế | G14: =SUM(G6:G13) -> 514225755
B15: Thuế VAT (8%) | G15: =G14*8% -> 41138060
B16: Tổng cộng sau thuế | G16: =G14+G15 -> 5.5536382e+08
B18: Ghi chú khối lượng
B19: Mua tư liệu bản đồ khu vực | C19: Phạm vi khu vực nằm trên 07 tờ bản đồ địa hình quốc gia 1:10.000
B20: Diện tích BĐĐH 1:10.000 = 45km2/ mảnh | C20: === > | D20: 111.31 km2 | E20: / 45 km2 = | F20: =E13 -> 2.47 | G20: Mảnh quy đổi

Sheet Thuyet minh QHSX+SDĐ
A1: THUYẾT MINH CÔNG VIỆC VÀ KHỐI LƯỢNG DỰ TOÁN
A2: ='CP qhsx+sdd'!A2 -> HẠNG MỤC: LẬP QUY HOẠCH SẢN XUẤT VÀ QUY HOẠCH SỬ DỤNG ĐẤT CỦA XÃ NÔNG THÔN
B4: I.Khối lượng, công việc chuyên gia tính toán trong dự toán:
B5: 1. Chủ nhiệm đồ án quy hoạch: 01 người
B6: - Nội dung công việc thực hiện:
B7: + Khảo sát hiện trạng và sưu tầm tài liệu;
B8: + Làm việc với các sở ban ngành liên quan đến khu vực lập quy hoạch, Thu thập các tài liệu, đánh giá các dự án, đồ án quy hoạch có liên quan
B9: tới khu vực nghiên cứu;
B10: + Biên tập hồ sơ, viết thuyết minh báo cáo: Xây dựng kế hoạch triển khai;
B11: + Rà soát kiểm tra các tài liệu nhằm bảo đảm đúng tiêu chuẩn và chất lượng quy định của từng bộ môn;
B12: + Xây dựng ý tưởng lồng ghép, khớp nối quy hoạch;
B13: + Kiểm tra, chỉnh sửa thuyết minh, báo cáo và bản vẽ của từng bộ môn;
B14: + Tổng hợp thuyết minh, bản vẽ, dự thảo các văn bản liên quan để phục vụ báo cáo và hồ sơ trình thẩm định, phê duyệt.
B15: - Tiến độ thực hiện: 04 ngày
... B54: - Tiến độ thực hiện: 02 ngày

Sheet CP qhsx+sdd
A1: BẢNG 2 - TỔNG HỢP DỰ TOÁN CHI PHÍ TƯ VẤN
A2: HẠNG MỤC: LẬP QUY HOẠCH SẢN XUẤT VÀ QUY HOẠCH SỬ DỤNG ĐẤT CỦA XÃ NÔNG THÔN
A3: Căn cứ lập dự toán:
A4: - Thông tư 17/2010/TT-BXD ngày 30/09/2010 v/v Hướng dẫn xác định, quản lý chi phí quy hoạch xây dựng và quy hoạch đô thị;
A5: - Thông tư 02/2015/TT-BLĐTBXH ngày 12/01/2015 v/v Quy định mức lương đối với chuyên gia tư vấn trong nước làm cơ sở dự toán gói thầu cung cấp dịch vụ tư vấn áp dụng hình thức hợp đồng theo thời gian sử dụng vốn nhà nước.
A7: STT | B7: NỘI DUNG CHI PHÍ | C7: DIỄN GIẢI | D7: GIÁ TRỊ TÍNH THEO (VND) | E7: GHI CHÚ
A8: 1 | B8: Chi phí chuyên gia | C8: Xem bảng chi tiết B2 | D8: ='Lương CG'!K14 -> 54276923 | E8: Ccg
A9: 2 | B9: Chi phí quản lý | C9: 55% x Ccg | D9: =D8*0.55 -> 29852308 | E9: Cql
A10: 3 | B10: Chi phí khác | C10: Xem bảng chi tiết B3 | D10: ='CP khác'!F35 -> 3360254 | E10: Ck
A11: 4 | B11: Thu nhập chịu thuế tính trước | C11: 6% x (Ccg+Cql+Ck) | D11: =(D8+D9+D10)*6% -> 5249369.1 | E11: TN
A12: 5 | B12: Thuế VAT | C12: 8% x (Ccg+Cql+Ck+TN) | D12: =8%*(D8+D9+D10+D11) -> 7419108.3 | E12: VAT
A13: 6 | B13: Tổng cộng | C13: Ccg+Cql+Ck+TN+VAT | D13: =SUM(D8:D12) -> 1.0015796e+08
B14: LÀM TRÒN | D14: =ROUND(+D13,-3) -> 100158000
B15: LÀM TRÒN: | D15: =ROUND(D14,-3) -> 100158000
A17: Bằng chữ: Bảy mươi tư triệu, tám trăm năm mươi lăm nghìn đồng chẵn.

Sheet Lương CG
K1: Mẫu số 12.1
A2: Bảng 2.1. CHI TIẾT THÙ LAO CHO CHUYÊN GIA
A3: ='[1]Tonghop '!A2 -> HẠNG MỤC: CHI PHÍ LẬP QUY HOẠCH SẢN XUẤT VÀ QUY HOẠCH SỬ DỤNG ĐẤT CỦA XÃ NÔNG THÔN
K4: Đơn vị tính: VND
A5: TT | B5: Chuyên gia thực hiện | C5: Vị trí dự kiến | D5: Số năm kinh nghiệm | G5: Lương chuyên gia Theo Thông tư 004/2025/TT-BNV ngày 07/5/2025 | J5: Số ngày làm việc | K5: Thù lao cho chuyên gia (5) x(6)
E6: Năm TN | F6: Name | G6: Năm kinh nghiệm | H6: Lương/ tháng | I6: Lương/ngày
B7: (1) | C7: (2) | G7: (3) | J7: (4) | K7: (5) = (3) x (4)
G8: (3.1) | H8: (3.2) | I8: (3.3)=(3,2)/26 | N8: =180/30 -> 6
A9: 1 | B9: Chuyên gia 1 | C9: Chủ nhiệm đồ án quy hoạch | G9: >5 năm | H9: 15000000 | I9: =H9*12/52*1.2 -> 4153846.2 | J9: 4 | K9: =J9*I9 -> 16615385 | M9: =180/4 -> 45
A10: 2 | B10: Chuyên gia 2 | C10: Chủ trì thiết kế kiến trúc | G10: <=5 năm | H10: 13000000 | I10: =H10*12/52*1.2 -> 3600000 | J10: 4 | K10: =I10*J10 -> 14400000
A11: 3 | B11: Chuyên gia 3 | C11: Chuyên gia thiết kế kiến trúc | G11: <=5 năm | H11: 12000000 | I11: =H11*12/52*1.2 -> 3323076.9 | J11: 3 | K11: =I11*J11 -> 9969230.8
A12: 4 | B12: Chuyên gia 4 | C12: Chủ trì thiết kế bộ môn giao thông, san nền | G12: <=5 năm | H12: 12000000 | I12: =H12*12/52*1.2 -> 3323076.9 | J12: 2 | K12: =I12*J12 -> 6646153.8
A13: 5 | B13: Chuyên gia 5 | C13: Chuyên gia thiết kế bộ môn giao thông, san nền | G13: <=5 năm | H13: 12000000 | I13: =H13*12/52*1.2 -> 3323076.9 | J13: 2 | K13: =I13*J13 -> 6646153.8
C14: Cộng | J14: =SUM(J9:J13) -> 15 | K14: =SUM(K9:K13) -> 54276923

Sheet CP khác
A1: Bảng 2.2. CHI PHÍ KHÁC CHO CHUYÊN GIA
A2: ='[1]Tonghop '!A2 -> HẠNG MỤC: CHI PHÍ LẬP QUY HOẠCH SẢN XUẤT VÀ QUY HOẠCH SỬ DỤNG ĐẤT CỦA XÃ NÔNG THÔN
A4: STT | B4: Diễn giải | C4: ĐVT | D4: Khối lượng | E4: Đơn giá (VNĐ) | F4: Thành tiền (VNĐ) | G4: Ghi chu
A5: 1 | B5: Khấu hao thiết bị văn phòng
B6: Máy tính (1 tháng x 5 máy x 9.832.848đ/máy/5 năm/12 tháng) | C6: máy | D6: 5 | E6: =1*9832848/5/12 -> 163880.8 | F6: =D6*E6 -> 819404
B7: Máy in (1 tháng x 1 máy x 5.391.000đ/máy/5 năm/12 tháng) | C7: máy | D7: 1 | E7: =1*5391000/5/12 -> 89850 | F7: =D7*E7 -> 89850
A8: 2 | B8: Chi phí in ấn, pho to văn phòng phẩm
A9: 2.1 | B9: Chi phí văn phòng phẩm | C9: tháng | D9: 1 | E9: 500000 | F9: =D9*E9 -> 500000
A10: 2.2 | B10: Chi phí in ấn, pho to
B11: In trình họp (3 bộ)
B12: - In màu (1 bộ) - A0 | C12: trang | D12: 2 | E12: 60000 | F12: =D12*E12 -> 120000
B13: - In đen trắng (1 bộ)
B14: A0 | C14: trang | D14: 2 | E14: 14000 | F14: =D14*E14 -> 28000
B15: A4 | C15: trang | D15: 20 | E15: 600 | F15: =D15*E15 -> 12000
B16: Pho to trình họp (3 bộ):
B17: A0 | C17: trang | D17: =D12*3 -> 6 | E17: 8000 | F17: =D17*E17 -> 48000
B18: A4 | C18: trang | D18: =D15*3 -> 60 | E18: 300 | F18: =D18*E18 -> 18000
B19: Đóng quyển nộp bài (3 bộ):
B20: A0 | C20: bộ | D20: 3 | E20: 40000 | F20: =D20*E20 -> 120000
B21: A4 | C21: bộ | D21: 3 | E21: 25000 | F21: =D21*E21 -> 75000
B22: In nộp bài
B23: - In màu (1 bộ) - A0 | C23: trang | D23: 2 | E23: 60000 | F23: =D23*E23 -> 120000
B24: - In đen trắng (1 bộ)
B25: A0 | C25: trang | D25: 2 | E25: 14000 | F25: =D25*E25 -> 28000
B26: A4 | C26: trang | D26: 20 | E26: 600 | F26: =D26*E26 -> 12000
B27: Pho to nộp bài (10 bộ):
B28: A0 | C28: trang | D28: =D23*10 -> 20 | E28: 8000 | F28: =D28*E28 -> 160000
B29: A4 | C29: trang | D29: =D26*10 -> 200 | E29: 300 | F29: =D29*E29 -> 60000
B30: Đóng quyển nộp bài (10 bộ):
B31: A0 | C31: bộ | D31: 10 | E31: 40000 | F31: =D31*E31 -> 400000
B32: A4 | C32: bộ | D32: 10 | E32: 25000 | F32: =D32*E32 -> 250000
A33: 3 | B33: Chi phí khác
B34: - Chi phí mua USB 32Gb (Sandisk SDCZ71 Cruzer Force hoặc tương đương) | C34: cái | D34: 1 | E34: 500000 | F34: =D34*E34 -> 500000
B35: Cộng | F35: =SUM(F5:F34) -> 3360254

Sheet CP lấy ý kiến
A1: CHI PHÍ TỔ CHỨC LẤY Ý KIẾN CỦA CƠ QUAN QUẢN LÝ NHÀ NƯỚC, TỔ CHỨC, CHUYÊN GIA VÀ CỘNG ĐỒNG CƯ DÂN CÓ LIÊN QUAN
A3: TT | B3: Khoản mục chi phí | C3: Diễn giải | F3: Giá trị (đồng) | G3: Ghi chú
C4: Đơn vị | D4: Khối lượng | E4: Đơn giá
A5: 1 | B5: Chi phí in ấn hồ sơ phục vụ lấy ý kiến (1 buổi)
A6: a | B6: Thuyết minh
B7: - In đen trắng (200 trang) | C7: A4 | D7: 200 | E7: 600 | F7: =D7*E7 -> 120000
B8: - Photo đen trắng (5 bộ x 200 trang) | C8: A4 | D8: =5*D7 -> 1000 | E8: 300 | F8: =D8*E8 -> 300000
B9: - Đóng quyển A4 (5 bộ) | C9: A4 | D9: 5 | E9: 20000 | F9: =D9*E9 -> 100000
A10: b | B10: Bản vẽ đen trắng
B11: - In bản vẽ A3 (30 trang) | C11: A3 | D11: 30 | E11: 1200 | F11: =D11*E11 -> 36000
B12: - Photo đen trắng (5 bộ x 20 trang) | C12: A3 | D12: =5*20 -> 100 | E12: 600 | F12: =D12*E12 -> 60000
B13: - Đóng quyển A3 (5 bộ) | C13: A3 | D13: 5 | E13: 30000 | F13: =D13*E13 -> 150000
A14: 2 | B14: Chi phí in hồ sơ A0 nét màu phục vụ công tác chăng treo bản vẽ trong 30 ngày | C14: A0 | D14: 20 | E14: 100000 | F14: =E14*D14 -> 2000000
A15: 3 | B15: In phát tờ rơi (In màu) | C15: A4 | D15: 150 | E15: 50000 | F15: =D15*E15 -> 7500000
B16: Tổng cộng | F16: =SUM(F5:F15) -> 10266000

Sheet CP công bố QH
A1: BẢNG 4: CHI PHÍ CÔNG BỐ QUY HỌACH
A3: TT | B3: Nội dung công việc | C3: Giải trình | D3: Giá trị (đồng) | E3: Ghi chú
A4: 1 | B4: Đại biểu: Đại diện UBND TP, các Sở, ban, ngành, huyện, thị trấn dự kiến 60 đại biểu | C4: 60 người x 100.000đ/ng | D4: =60*100000 -> 6000000 | E4: Vận dụng Thông tư số 03/2023/TT-BTC
A5: 2 | B5: Đăng tin bài về việc công bố QH dự kiến 20 người | C5: 20 người x 100.000đ/ng | D5: =20*100000 -> 2000000 | E5: 01 đài truyền hình và 08 cơ quan báo chí (báo viết + báo mạng)
A6: 3 | B6: Giải khát giữa giờ | C6: 60 người x 100.000đ/ng | D6: =60*50000 -> 3000000 | E6: Thông tư 12/2025/TT-BTC ngày 19/3/2025
A7: 5 | B7: Chi phí in ấn hồ sơ phục vụ công bố QH
A8: a | B8: Thuyết minh
B9: - In đen trắng A4 | C9: 200 trang x 600 đồng/trang | D9: =200*600 -> 120000
B10: - Photo đen trắng A4 | C10: 10 bộ x 200 trang x 300 đồng/trang | D10: =10*200*300 -> 600000
B11: - Đóng quyển A4 | C11: 10 bộ x 20.000 đồng/quyển | D11: =10*20000 -> 200000
A12: b | B12: Bản vẽ đen trắng
B13: - In bản vẽ A3 | C13: 20 trang x 1,200 đồng/trang | D13: =20*1200 -> 24000
B14: - Photo đen trắng A3 | C14: 10 bộ x 20 trang x 600 đồng/trang | D14: =10*20*600 -> 120000
B15: - Đóng quyển A3 | C15: 10 bộ x 30.000 đồng/bộ | D15: =10*30000 -> 300000
A16: 7 | B16: Hồ sơ bản vẽ treo báo cáo | C16: 20QH x 100.000đ/pano | D16: =20*100000 -> 2000000 | E16: 01 bộ hồ sơ bản vẽ treo báo cáo in trên tấm dựng PVC khố A0
B17: Tổng cộng | D17: =SUM(D4:D16) -> 14364000

Sheet Nội suy
A1: ĐỊNH MỨC CHI PHÍ QUY HOẠCH ĐÔ THỊ VÀ NÔNG THÔN
A2: (Thông tư số 17/2025/TT-BXD ngày 30/06/2025 của Bộ Xây dựng)
B4: - Quy mô diện tích | C4: 11131 | D4: ha
B5: - Quy mô dân số (dự kiến) đến 2045 | C5: 33000 | D5: người | E5: =C5/1000 -> 33 | F5: nghìn người
B6: - Chi phí lập quy hoạch đô thị và nông thôn | C6: ='Tong hop '!I6/1.08/1000000 -> 487.93889 | D6: triệu đồng
B7: - Chi phí gói thầu tư vấn | C7: =SUM('Tong hop '!I5,'Tong hop '!I6,'Tong hop '!I15)/1.08/1000000000 -> 1.0509585 | D7: tỷ đồng
A9: 1.1 | B9: Bảng số 1: Định mức chi phí lập nhiệm vụ, lập quy hoạch chung đô thị, khu vực được định hướng phát triển đô thị, đặc khu trong hệ thống đô thị
Q10: ĐVT: triệu đồng
B11: Nội dung | C11: Quy mô (ha) | O11: Nội suy | P11: Cận dưới | Q11: Cận trên
C12: 250 | D12: 500 | E12: 1000 | F12: 5000 | G12: 10000 | H12: 15000 | I12: 20000 | J12: 25000 | K12: 30000 | L12: 50000 | M12: 150000 | N12: 360000 | O12: =$C$4 -> 11131 | P12: =IF(O12<C12,C12,IF(O12>N12,N12,HLOOKUP(O12,C12:N12,1))) -> 10000 | Q12: =IF(O12<C12,C12,IF(O12>N12,N12,INDEX(C12:N12,MATCH(O12,C12:N12)+1))) -> 15000
B13: - Định mức chi phí lập quy hoạch | C13: 1170 | D13: 1381 | E13: 1853 | F13: 3245 | G13: 3776 | H13: 4425 | I13: 4956 | J13: 5310 | K13: 5664 | L13: 8260 | M13: 17700 | N13: 33984 | O13: =ROUND(TREND(P13:Q13,P12:Q12,O12),3) -> 3922.804 | P13: =HLOOKUP(P12,$C$12:$N$14,2) -> 3776 | Q13: =HLOOKUP(Q12,$C$12:$N$14,2) -> 4425
B14: - Định mức chi phí lập nhiệm vụ quy hoạch | C14: 15 | D14: 18 | E14: 24 | F14: 51 | G14: 61 | H14: 74 | I14: 85 | J14: 94 | K14: 99 | L14: 159 | M14: 425 | N14: 850 | O14: =ROUND(TREND(P14:Q14,P12:Q12,O12),3) -> 63.941 | P14: =HLOOKUP(P12,$C$12:$N$14,3) -> 61 | Q14: =HLOOKUP(Q12,$C$12:$N$14,3) -> 74
A17: 1.2 | B17: Bảng số 2: Định mức chi phí lập nhiệm vụ, lập quy hoạch chung xã, đặc khu không thuộc hệ thống đô thị
Q18: ĐVT: triệu đồng
B19: Nội dung | C19: Quy mô dân số (nghìn người) | O19: Nội suy | P19: Cận dưới | Q19: Cận trên
C20: 3 | D20: 5 | E20: 10 | F20: 15 | G20: 20 | H20: 30 | I20: 50 | J20: 75 | K20: 100 | L20: 150 | M20: 200 | N20: 250 | O20: =$E$5 -> 33 | P20: =IF(O20<C20,C20,IF(O20>N20,N20,HLOOKUP(O20,C20:N20,1))) -> 30 | Q20: =IF(O20<C20,C20,IF(O20>N20,N20,INDEX(C20:N20,MATCH(O20,C20:N20)+1))) -> 50
B21: - Định mức chi phí lập quy hoạch | C21: 156 | D21: 184 | E21: 268 | F21: 306 | G21: 339 | H21: 382 | I21: 470 | J21: 580 | K21: 690 | L21: 910 | M21: 1130 | N21: 1350 | O21: =ROUND(TREND(P21:Q21,P20:Q20,O20),3) -> 395.2 | P21: =HLOOKUP(P20,$C$20:$N$22,2) -> 382 | Q21: =HLOOKUP(Q20,$C$20:$N$22,2) -> 470
B22: - Định mức chi phí lập nhiệm vụ quy hoạch | C22: 22 | D22: 26 | E22: 37 | F22: 41 | G22: 44 | H22: 48 | I22: 59 | J22: 72 | K22: 85 | L22: 110 | M22: 136 | N22: 162 | O22: =ROUND(TREND(P22:Q22,P20:Q20,O20),3) -> 49.65 | P22: =HLOOKUP(P20,$C$20:$N$22,3) -> 48 | Q22: =HLOOKUP(Q20,$C$20:$N$22,3) -> 59
A25: 1.3 | B25: Bảng số 3: Định mức chi phí lập nhiệm vụ, lập quy hoạch chung khu kinh tế, khu du lịch quốc gia
P26: ĐVT: triệu đồng
B27: Nội dung | C27: Quy mô (ha) | N27: Nội suy | O27: Cận dưới | P27: Cận trên
C28: 250 | D28: 500 | E28: 1000 | F28: 5000 | G28: 10000 | H28: 15000 | I28: 20000 | J28: 25000 | K28: 30000 | L28: 40000 | M28: 60000 | N28: =$C$4 -> 11131 | O28: =IF(N28<C28,C28,IF(N28>M28,M28,HLOOKUP(N28,C28:M28,1))) -> 10000 | P28: =IF(N28<C28,C28,IF(N28>M28,M28,INDEX(C28:M28,MATCH(N28,C28:M28)+1))) -> 15000
B29: - Định mức chi phí lập quy hoạch | C29: 1410 | D29: 1664 | E29: 2223 | F29: 3894 | G29: 4531 | H29: 5310 | I29: 5947 | J29: 6372 | K29: 6797 | L29: 7930 | M29: 8496 | N29: =ROUND(TREND(O29:P29,O28:P28,N28),3) -> 4707.21 | O29: =HLOOKUP(O28,$C$28:$M$30,2) -> 4531 | P29: =HLOOKUP(P28,$C$28:$M$30,2) -> 5310
B30: - Định mức chi phí lập nhiệm vụ quy hoạch | C30: 102 | D30: 118 | E30: 138 | F30: 202 | G30: 219 | H30: 235 | I30: 243 | J30: 252 | K30: 261 | L30: 277 | M30: 287 | N30: =ROUND(TREND(O30:P30,O28:P28,N28),3) -> 222.619 | O30: =HLOOKUP(O28,$C$28:$M$30,3) -> 219 | P30: =HLOOKUP(P28,$C$28:$M$30,3) -> 235
A33: 1.4 | B33: Bảng số 4: Định mức chi phí lập nhiệm vụ, lập quy hoạch phân khu khu vực đô thị (tỷ lệ 1/2.000)
P34: ĐVT: triệu đồng
B35: Nội dung | C35: Quy mô (ha) | N35: Nội suy | O35: Cận dưới | P35: Cận trên
C36: 50 | D36: 75 | E36: 100 | F36: 200 | G36: 300 | H36: 500 | I36: 750 | J36: 1000 | K36: 2000 | L36: 3000 | M36: 5000 | N36: =$C$4 -> 11131 | O36: =IF(N36<C36,C36,IF(N36>M36,M36,HLOOKUP(N36,C36:M36,1))) -> 5000 | P36: =IF(N36<C36,C36,IF(N36>M36,M36,INDEX(C36:M36,MATCH(N36,C36:M36)+1))) -> 5000
B37: - Định mức chi phí lập quy hoạch | C37: 732 | D37: 848 | E37: 989 | F37: 1501 | G37: 1573 | H37: 1769 | I37: 2123 | J37: 2413 | K37: 4083 | L37: 5150 | M37: 6612 | N37: =ROUND(TREND(O37:P37,O36:P36,N36),3) -> 6612 | O37: =HLOOKUP(O36,$C$36:$M$38,2) -> 6612 | P37: =HLOOKUP(P36,$C$36:$M$38,2) -> 6612
B38: - Định mức chi phí lập nhiệm vụ quy hoạch | C38: 64 | D38: 74 | E38: 83 | F38: 110 | G38: 114 | H38: 122 | I38: 134 | J38: 144 | K38: 206 | L38: 229 | M38: 255 | N38: =ROUND(TREND(O38:P38,O36:P36,N36),3) -> 255 | O38: =HLOOKUP(O36,$C$36:$M$38,3) -> 255 | P38: =HLOOKUP(P37,$C$36:$M$38,3) -> 255
A41: 1.5 | B41: Bảng số 5: Định mức chi phí lập nhiệm vụ, lập quy hoạch phân khu khu công nghiệp, khu công nghệ cao, khu nông nghiệp ứng dụng công nghệ cao, khu lâm nghiệp ứng dụng công nghệ cao
N42: ĐVT: triệu đồng
B43: Nội dung | C43: Quy mô (ha) | L43: Nội suy | M43: Cận dưới | N43: Cận trên
C44: 50 | D44: 75 | E44: 100 | F44: 200 | G44: 300 | H44: 500 | I44: 750 | J44: 1000 | K44: 2000 | L44: =$C$4 -> 11131 | M44: =IF(L44<C44,C44,IF(L44>K44,K44,HLOOKUP(L44,C44:K44,1))) -> 2000 | N44: =IF(L44<C44,C44,IF(L44>K44,K44,INDEX(C44:K44,MATCH(L44,C44:K44)+1))) -> 2000
B45: - Định mức chi phí lập quy hoạch | C45: 732 | D45: 848 | E45: 989 | F45: 1501 | G45: 1573 | H45: 1769 | I45: 2123 | J45: 2413 | K45: 4083 | L45: =ROUND(TREND(M45:N45,M44:N44,L44),3) -> 4083 | M45: =HLOOKUP(M44,$C$44:$K$46,2) -> 4083 | N45: =HLOOKUP(N44,$C$44:$K$46,2) -> 4083
B46: - Định mức chi phí lập nhiệm vụ quy hoạch | C46: 64 | D46: 74 | E46: 83 | F46: 110 | G46: 114 | H46: 122 | I46: 134 | J46: 144 | K46: 206 | L46: =ROUND(TREND(M46:N46,M44:N44,L44),3) -> 206 | M46: =HLOOKUP(M44,$C$44:$K$46,3) -> 206 | N46: =HLOOKUP(N44,$C$44:$K$46,3) -> 206
A49: 1.6 | B49: Bảng số 6: Định mức chi phí lập nhiệm vụ, lập quy hoạch chi tiết khu vực đô thị, nông thôn và khu chức năng
R50: ĐVT: triệu đồng
B51: Nội dung | C51: Quy mô (ha) | P51: Nội suy | Q51: Cận dưới | R51: Cận trên
C52: 2 | D52: 5 | E52: 10 | F52: 20 | G52: 30 | H52: 50 | I52: 75 | J52: 100 | K52: 200 | L52: 300 | M52: 500 | N52: 750 | O52: 1000 | P52: =C$4 -> 11131 | Q52: =IF(P52<C52,C52,IF(P52>O52,O52,HLOOKUP(P52,C52:O52,1))) -> 1000 | R52: =IF(P52<C52,C52,IF(P52>O52,O52,INDEX(C52:O52,MATCH(P52,C52:O52)+1))) -> 1000
B53: - Định mức chi phí lập quy hoạch | C53: 282 | D53: 326 | E53: 479 | F53: 783 | G53: 914 | H53: 1088 | I53: 1306 | J53: 1524 | K53: 2134 | L53: 2415 | M53: 2726 | N53: 3263 | O53: 3700 | P53: =ROUND(TREND(Q53:R53,Q52:R52,P52),3) -> 3700 | Q53: =HLOOKUP(Q52,$C$52:$O$54,2) -> 3700 | R53: =HLOOKUP(R52,$C$52:$O$54,2) -> 3700
B54: - Định mức chi phí lập nhiệm vụ quy hoạch | C54: 37 | D54: 43 | E54: 56 | F54: 71 | G54: 78 | H54: 88 | I54: 100 | J54: 111 | K54: 135 | L54: 144 | M54: 158 | N54: 179 | O54: 194 | P54: =ROUND(TREND(Q54:R54,Q52:R52,P52),3) -> 194 | Q54: =HLOOKUP(Q52,$C$52:$O$54,3) -> 194 | R54: =HLOOKUP(R52,$C$52:$O$54,3) -> 194
A57: 1.7 | B57: Bảng số 7: Định mức chi phí lập nhiệm vụ, lập các quy hoạch chuyên ngành hạ tầng kỹ thuật đối với thành phố trực thuộc TW
F58: ĐVT: Tỷ lệ %
B59: Nội dung | C59: Loại quy hoạch
C60: Quy hoạch chuyên ngành giao thông | D60: Quy hoạch cấp nước | E60: Quy hoạch cao độ nền và thoát nước | F60: Quy hoạch quản lý chất thải rắn và nghĩa trang
B61: - Định mức chi phí lập quy hoạch so với định mức chi phí lập quy hoạch chung đô thị, khu vực được định hướng phát triển đô thị, đặc khu trong hệ thống đô thị | C61: 50 | D61: 25 | E61: 46 | F61: 19
B62: - Định mức chi phí lập nhiệm vụ quy hoạch so với định mức chi phí lập quy hoạch chung đô thị, khu vực được định hướng phát triển đô thị, đặc khu trong hệ thống đô thị | C62: 48 | D62: 25 | E62: 44 | F62: 21
A65: 2 | B65: Bảng số 8: Định mức chi phí quản lý nghiệp vụ công tác lập quy hoạch đô thị và nông thôn
M66: ĐVT: Tỷ lệ %
B67: Nội dung | C67: Chi phí lập quy hoạch đô thị và nông thôn (triệu đồng) | K67: Nội suy | L67: Cận dưới | M67: Cận trên
C68: 200 | D68: 500 | E68: 700 | F68: 1000 | G68: 2000 | H68: 5000 | I68: 7000 | J68: 10000 | K68: =C$6 -> 487.93889 | L68: =IF(K68<C68,C68,IF(K68>J68,J68,HLOOKUP(K68,C68:J68,1))) -> 200 | M68: =IF(K68<C68,C68,IF(K68>J68,J68,INDEX(C68:J68,MATCH(K68,C68:J68)+1))) -> 500
B69: Quản lý nghiệp vụ công tác lập quy hoạch đô thị và nông thôn (tỷ lệ %) | C69: 10.6 | D69: 8.8 | E69: 7.9 | F69: 7.1 | G69: 5.1 | H69: 3.7 | I69: 3 | J69: 2.6 | K69: =TREND(L69:M69,L68:M68,K68) -> 8.8723667 | L69: =HLOOKUP(L68,$C$68:$J$69,2) -> 10.6 | M69: =HLOOKUP(M68,$C$68:$J$69,2) -> 8.8
A72: 3 | B72: Bảng số 9: Định mức chi phí làm mô hình quy hoạch
F73: ĐVT: triệu đồng/m2
B74: Nội dung | C74: Tỷ lệ mô hình
C75: 1/5000 | D75: 1/2.000 | E75: 1/1.000 | F75: 1/500
B76: Định mức chi phí (triệu đồng/m2) | C76: 27.36 | D76: 52.44 | E76: 62.7 | F76: 75.24
A82: PHÍ THẨM ĐỊNH ĐỒ ÁN QUY HOẠCH
A83: (Thông tư số 35/2023/TT-BTC ngày 31/05/2023 của Bộ Tài chính)
A86: 1 | B86: Bảng số 1: Mức thu phí tính theo tỷ lệ % trên tổng chi phí lập từng đồ án đề nghị thẩm định (chưa gồm thuế GTGT)
M87: ĐVT: triệu đồng
B88: Nội dung | C88: Chi phí lập quy hoạch đô thị và nông thôn (triệu đồng) | K88: Nội suy | L88: Cận dưới | M88: Cận trên
C89: 200 | D89: 500 | E89: 700 | F89: 1000 | G89: 2000 | H89: 5000 | I89: 7000 | J89: 10000 | K89: =$C$6 -> 487.93889 | L89: =IF(K89<C89,C89,IF(K89>J89,J89,HLOOKUP(K89,C89:J89,1))) -> 200 | M89: =IF(K89<C89,C89,IF(K89>J89,J89,INDEX(C89:J89,MATCH(K89,C89:J89)+1))) -> 500
B90: - Mức thu phí thẩm định | C90: 12.3 | D90: 9.7 | E90: 8.4 | F90: 7.5 | G90: 5.5 | H90: 3.9 | I90: 3.2 | J90: 2.8 | K90: =TREND(L90:M90,L89:M89,K89) -> 9.8045296 | L90: =HLOOKUP(L89,$C$89:$J$90,2) -> 12.3 | M90: =HLOOKUP(M89,$C$89:$J$90,2) -> 9.7
A96: ĐỊNH MỨC CHI PHÍ QUẢN LÝ DỰ ÁN VÀ TƯ VẤN ĐẦU TƯ XÂY DỰNG
A97: (Thông tư số 12/2021/TT-BXD ngày 31/08/2021 của Bộ Xây dựng)
A100: 14 | B100: Bảng 2.18: Định mức chi phí lập hồ sơ mời thầu, đánh giá hồ sơ dự thầu tư vấn
B102: Nội dung | C102: Chi phí tư vấn (chưa có thuế GTGT) trong dự toán gói thầu tư vấn (tỷ đồng) | J102: Nội suy | K102: Cận dưới | L102: Cận trên
C103: 1 | D103: 3 | E103: 5 | F103: 10 | G103: 20 | H103: 50 | I103: 100 | J103: =C7 -> 1.0509585 | K103: =IF(J103<C103,C103,IF(J103>I103,I103,HLOOKUP(J103,C103:I103,1))) -> 1 | L103: =IF(J103<C103,C103,IF(J103>I103,I103,INDEX(C103:I103,MATCH(J103,C103:I103)+1))) -> 3
B104: Tỷ lệ % | C104: 0.816 | D104: 0.583 | E104: 0.505 | F104: 0.389 | G104: 0.311 | H104: 0.176 | I104: 0.114 | J104: =TREND(K104:L104,K103:L103,J103) -> 0.81006333 | K104: =HLOOKUP(K$103,$C$103:$I$104,2) -> 0.816 | L104: =HLOOKUP(L$103,$C$103:$I$104,2) -> 0.583
A107: 19 | B107: Bảng 2.23: Định mức chi phí giám sát công tác khảo sát xây dựng
B109: Nội dung | C109: Chi phí khảo sát xây dựng (chưa có thuế GTGT) trong dự toán gói thầu khảo sát xây dựng (tỷ đồng) | H109: Nội suy | I109: Cận dưới | J109: Cận trên
C110: 1 | D110: 5 | E110: 10 | F110: 20 | G110: 50 | H110: ='Tong hop '!I5/1.08/1000000000 -> 0.51422575 | I110: =IF(H110<C110,C110,IF(H110>G110,G110,HLOOKUP(H110,C110:G110,1))) -> 1 | J110: =IF(H110<C110,C110,IF(H110>G110,G110,INDEX(C110:G110,MATCH(H110,C110:G110)+1))) -> 1
B111: Tỷ lệ % | C111: 4.072 | D111: 3.541 | E111: 3.079 | F111: 2.707 | G111: 2.381 | H111: =ROUND(TREND(I111:J111,I110:J110,H110),3) -> 4.072 | I111: =HLOOKUP(I$110,$C$110:$G$111,2) -> 4.072 | J111: =HLOOKUP(J$110,$C$110:$G$111,2) -> 4.072

Sheet Kế hoạch
B2: STT | C2: Nội dung thực hiện | D2: Thời gian thực hiện | E2: Thời gian hoàn thành | F2: Đơn vị thực hiện | G2: Đơn vị phối hợp thực hiện
B3: I | C3: Lập nhiệm vụ quy hoạch chung | I3: 45987 | J3: =J4-H4 -> 45987
B4: Bước 1 | C4: Lập, thẩm định và phê duyệt dự toán chi phí lập nhiệm vụ quy hoạch | D4: 5 ngày | E4: Tháng 12/2025 | F4: Phòng Kinh tế | G4: UBND xã Tuấn Sơn | H4: 5 | I4: =H4+I3 -> 45992 | J4: 01/12/2025 | L4: Quyết định 1006/QĐ-UBND ngày 01/12/2025
B5: Bước 2 | C5: Trình, phê duyệt kế hoạch lựa chọn nhà thầu lập nhiệm vụ quy hoạch; | D5: 4 ngày | E5: Tháng 12/2025 | F5: Phòng Kinh tế | H5: 4 | I5: =H5+I4 -> 45996 | J5: 05/12/2025 | K5: =J5-J4 -> 4 | L5: Quyết định 1025a/QĐ-UBND ngày 05/12/2025
B6: Bước 3 | C6: Lựa chọn đơn vị tư vấn lập nhiệm vụ quy hoạch và dự toán quy hoạch (theo quy định của Luật đấu thầu) | D6: 10 ngày | E6: Tháng 12/2025 | F6: Phòng Kinh tế | H6: 10 | I6: =H6+I5 -> 46006 | J6: 10/12/2025 | K6: =J6-J5 -> 5 | L6: HĐ ký kết
B7: Bước 4 | C7: Lập nhiệm vụ quy hoạch và dự toán quy hoạch | D7: 30 ngày | E7: Tháng 01/2026 | F7: Phòng Kinh tế thuê tư vấn lập nhiệm vụ quy hoạch | G7: UBND xã Tuấn Sơn và các sở, ngành, đơn vị có liên quan | H7: 30 | I7: =H7+I6 -> 46036
B8: Bước 5 | C8: Tổ chức lấy ý kiến các cơ quan quản lý nhà nước có liên quan | D8: 7 ngày làm việc | E8: Tháng 01/2026 | F8: Phòng Kinh tế | G8: UBND xã Tuấn Sơn và các sở, ngành, đơn vị có liên quan và đơn vị tư vấn lập nhiệm vụ quy hoạch | H8: 7 | I8: =H8+I7+2 -> 46045
B9: Bước 6 | C9: Tổng hợp, tiếp thu, giải trình các ý kiến tham gia của các cơ quan quản lý nhà nước có liên quan, hoàn thiện hồ sơ nhiệm vụ quy hoạch | D9: 7 ngày | E9: Tháng 01/2026 | F9: Đơn vị tư vấn lập nhiệm vụ quy hoạch | G9: Phòng Kinh tế | H9: 7 | I9: =H9+I8 -> 46052
B10: Bước 7 | C10: Trình thẩm định nhiệm vụ quy hoạch và dự toán quy hoạch | D10: 2 ngày | E10: Tháng 02/2026 | F10: UBND xã Tuấn Sơn | G10: Phòng Kinh tế và đơn vị tư vấn lập nhiệm vụ quy hoạch | H10: 2 | I10: =H10+I9 -> 46054
B11: Bước 8 | C11: Thẩm định nhiệm vụ quy hoạch và dự toán quy hoạch | D11: 15 ngày | E11: Tháng 02/2026 | F11: Sở Xây dựng tỉnh Lạng Sơn | G11: UBND xã Tuấn Sơn, đơn vị tư vấn lập nhiệm vụ quy hoạch | H11: 15 | I11: =H11+I10 -> 46069
B12: Bước 9 | C12: Họp Hội đồng thẩm định nhiệm vụ quy hoạch | D12: 5 ngày | E12: Tháng 02/2026 | F12: Hội đồng thẩm định quy hoạch tỉnh Lạng Sơn quy định tại khoản 3, Điều 40 Luật QHĐT&NT | G12: UBND xã Tuấn Sơn và đơn vị tư vấn lập nhiệm vụ quy hoạch | H12: 5 | I12: =H12+I11 -> 46074
B13: Bước 10 | C13: Phê duyệt Nhiệm vụ quy hoạch và dự toán quy hoạch | D13: 5 ngày | E13: Tháng 02/2026 | F13: UBND tỉnh Lạng Sơn | G13: Sở Xây dựng, UBND xã Tuấn Sơn và đơn vị tư vấn lập nhiệm vụ quy hoạch | H13: 5 | I13: =H13+I12 -> 46079
B14: II | C14: Lập quy hoạch chung
B15: Bước 1 | C15: Lập, phê duyệt kế hoạch lựa chọn nhà thầu tư vấn khảo sát, lập quy hoạch, giám sát khảo sát ... | D15: 5 ngày | E15: Tháng 03/2026 | F15: Phòng Kinh tế | H15: 5 | I15: =H15+I13 -> 46084
B16: Bước 2 | C16: Tổ chức lựa chọn đơn vị tư vấn khảo sát, lập quy hoạch, giám sát khảo sát ... (theo quy định của Luật Đấu thầu) | D16: 7 ngày | E16: Tháng 03/2026 | F16: Phòng Kinh tế | G16: Đơn vị tư vấn lựa chọn nhà thầu | H16: 7 | I16: =H16+I15 -> 46091
B17: Bước 3 | C17: Khảo sát, đo vẽ, lập hồ sơ quy hoạch | D17: 270 ngày | E17: Tháng 12/2026 | F17: Đơn vị tư vấn lập quy hoạch | G17: Phòng Kinh tế, UBND xã Tuấn Sơn và các sở ban ngành có liên quan | H17: =9*30 -> 270 | I17: =H17+I16 -> 46361
B18: Bước 4 | C18: Tổ chức lấy ý kiến các cơ quan quản lý nhà nước, tổ chức và chuyên gia có liên quan | D18: 7 ngày làm việc | E18: Tháng 12/2026 | F18: Phòng Kinh tế | G18: Các cơ quan, tổ chức trên địa bàn xã Tuấn Sơn, các sở ban ngành và đơn vị tư vấn lập quy hoạch | H18: 7 | I18: =H18+I17+2 -> 46370
B19: Bước 5 | C19: Tổng hợp, tiếp thu, giải trình các ý kiến tham gia của các cơ quan quản lý nhà nước, tổ chức và chuyên gia có liên quan, hoàn thiện hồ sơ đồ án quy hoạch | D19: 7 ngày | E19: Tháng 12/2026 | F19: Đơn vị tư vấn lập quy hoạch | G19: Phòng Kinh tế | H19: 7 | I19: =H19+I18 -> 46377
B20: Bước 6 | C20: Lấy ý kiến cộng đồng dân cư | D20: 30 ngày | E20: Tháng 01/2027 | F20: Phòng Kinh tế | G20: Các phòng ban trực thuộc UBND xã Tuấn Sơn và đơn vị tư vấn lập quy hoạch | H20: 30 | I20: =H20+I19 -> 46407
B21: Bước 7 | C21: Tiếp thu, hoàn thiện hồ sơ đồ án quy hoạch trình thẩm định | D21: 10 ngày | E21: Tháng 01/2027 | F21: Đơn vị tư vấn lập quy hoạch | G21: Phòng Kinh tế | H21: 10 | I21: =H21+I20 -> 46417
B22: Bước 8 | C22: Trình thẩm định đồ án quy hoạch | D22: 2 ngày | E22: Tháng 02/2027 | F22: UBND xã Tuấn Sơn | G22: Phòng Kinh tế và đơn vị tư vấn lập nhiệm vụ quy hoạch | H22: 2 | I22: =H22+I21 -> 46419
B23: Bước 9 | C23: Thẩm định đồ án quy hoạch | D23: 30 ngày | E23: Tháng 03/2027 | F23: Sở Xây dựng | G23: UBND xã Tuấn Sơn, đơn vị tư vấn lập quy hoạch | H23: 30 | I23: =H23+I22 -> 46449
B24: Bước 10 | C24: Họp Hội đồng thẩm định đồ án quy hoạch | D24: 5 ngày | E24: Tháng 03/2027 | F24: Hội đồng thẩm định | G24: UBND xã Tuấn Sơn, đơn vị tư vấn lập quy hoạch | H24: 5 | I24: =H24+I23 -> 46454
B25: Bước 11 | C25: Tổng hợp, tiếp thu và hoàn thiện hồ sơ trình phê duyệt đồ án quy hoạch | D25: 10 ngày | E25: Tháng 03/2027 | F25: Đơn vị tư vấn lập quy hoạch | G25: Phòng Kinh tế | H25: 10 | I25: =H25+I24 -> 46464
B26: Bước 12 | C26: Phê duyệt đồ án quy hoạch | D26: 15 ngày | E26: Tháng 04/2027 | F26: UBND tỉnh Lạng Sơn | G26: Sở Xây dựng, UBND xã Tuấn Sơn, đơn vị tư vấn lập quy hoạch | H26: 15 | I26: =H26+I25 -> 46479
B27: Bước 13 | C27: Công bố đồ án quy hoạch | D27: 15 ngày | E27: Tháng 04/2027 | F27: Phòng Kinh tế | G27: UBND xã Tuấn Sơn, đơn vị tư vấn lập quy hoạch | H27: 15 | I27: =H27+I26 -> 46494

Sheet Kế hoạch (PA2)
B2: STT | C2: Nội dung thực hiện | D2: Thời gian thực hiện | E2: Thời gian hoàn thành | F2: Đơn vị thực hiện | G2: Đơn vị phối hợp thực hiện
B3: I | C3: Lập nhiệm vụ quy hoạch chung | I3: 45987
B4: Bước 1 | C4: Lập, thẩm định và phê duyệt dự toán chi phí lập nhiệm vụ quy hoạch | D4: 5 ngày | E4: 45992 | F4: Phòng Kinh tế | G4: UBND xã Tuấn Sơn (đã thực hiện) | H4: 5 | I4: =H4+I3 -> 45992 | L4: Quyết định 1006/QĐ-UBND ngày 01/12/2025
B5: Bước 2 | C5: Trình, phê duyệt kế hoạch lựa chọn nhà thầu lập nhiệm vụ quy hoạch; | D5: 4 ngày | E5: 45996 | F5: Phòng Kinh tế | G5: Đã thực hiện | H5: 4 | I5: =H5+I4 -> 45996 | L5: Quyết định 1025a/QĐ-UBND ngày 05/12/2025
B6: Bước 3 | C6: Lựa chọn đơn vị tư vấn lập nhiệm vụ quy hoạch và dự toán quy hoạch (theo quy định của Luật đấu thầu) | D6: 5 ngày | E6: 46001 | F6: Phòng Kinh tế | G6: Đã thực hiện | H6: 5 | I6: =H6+I5 -> 46001 | L6: HĐ ký kết
B7: Bước 4 | C7: Lập nhiệm vụ quy hoạch và dự toán quy hoạch | D7: 60 ngày | E7: 46061 | F7: Phòng Kinh tế thuê tư vấn lập nhiệm vụ quy hoạch | G7: UBND xã Tuấn Sơn và các sở, ngành, đơn vị có liên quan và đơn vị tư vấn lập nhiệm vụ quy hoạch (đã thực hiện) | H7: 60 | I7: =H7+I6 -> 46061
B8: Bước 5 | C8: Tổ chức lấy ý kiến các cơ quan quản lý nhà nước có liên quan | D8: 7 ngày làm việc | E8: 46022 | F8: Phòng Kinh tế | G8: UBND xã Tuấn Sơn và các phòng ban, đơn vị có liên quan và đơn vị tư vấn lập nhiệm vụ quy hoạch | H8: =I8-I6 -> 21 | I8: 46022
B9: Bước 5 | C9: Trình thẩm định nhiệm vụ quy hoạch và dự toán quy hoạch | E9: 46161 | F9: UBND xã Tuấn Sơn | G9: Phòng Kinh tế và đơn vị tư vấn lập nhiệm vụ quy hoạch (đã thực hiện) | H9: =I9-I7 -> 100 | I9: 19/05/2026 | J9: =E9-E7 -> 100 | L9: Tờ trình số 34/TTr-UBND ngày 19/05/2026
B10: Bước 6 | C10: Sở Xây dựng lấy ý kiến thẩm định nhiệm vụ quy hoạch | D10: 1 ngày | E10: 46162 | F10: Sở Xây dựng tỉnh Lạng Sơn | G10: Các Sở Ban ngành (đã thực hiện) | I10: 46162 | J10: =E10-E9 -> 1 | L10: Ý kiến góp ý 2515/SXD-QHKT ngày 19/06/2026
B11: Bước 7 | C11: Tập hợp ý kiến các sở ban ngành | D11: 30 ngày | E11: 19/06/2026 | F11: Sở Xây dựng tỉnh Lạng Sơn | G11: Đã thực hiện | I11: 19/06/2026 | J11: =E11-E10 -> 30
B12: Bước 8 | C12: Giải trình ý kiến nhiệm vụ quy hoạch và dự toán | D12: 30 ngày | E12: =30+E11 -> 46222 | F12: Đơn vị tư vấn lập nhiệm vụ quy hoạch | G12: Đang thực hiện | I12: 46222
B13: Bước 9 | C13: Họp Hội đồng thẩm định nhiệm vụ quy hoạch | D13: 10 ngày | E13: Tháng 07/2026 | F13: Hội đồng thẩm định | G13: UBND xã Tuấn Sơn và đơn vị tư vấn lập nhiệm vụ quy hoạch | H13: 10 | I13: =H13+I12 -> 46232
B14: Bước 10 | C14: Phê duyệt Nhiệm vụ quy hoạch và dự toán quy hoạch | D14: 5 ngày | E14: Tháng 08/2026 | F14: UBND tỉnh Lạng Sơn | G14: Sở Xây dựng, UBND xã Tuấn Sơn và đơn vị tư vấn lập nhiệm vụ quy hoạch | H14: 5 | I14: =H14+I13 -> 46237
B15: II | C15: Lập quy hoạch chung
B16: Bước 1 | C16: Lập, phê duyệt kế hoạch lựa chọn nhà thầu tư vấn khảo sát, lập quy hoạch, giám sát khảo sát ... | D16: 5 ngày | E16: Tháng 08/2026 | F16: Phòng Kinh tế | H16: 5 | I16: =H16+I14 -> 46242
B17: Bước 2 | C17: Tổ chức lựa chọn đơn vị tư vấn khảo sát, lập quy hoạch, giám sát khảo sát ... (theo quy định của Luật Đấu thầu) | D17: 7 ngày | E17: Tháng 08/2026 | F17: Phòng Kinh tế | G17: Đơn vị tư vấn lựa chọn nhà thầu | H17: 7 | I17: =H17+I16 -> 46249
B18: Bước 3 | C18: Khảo sát, đo vẽ, lập hồ sơ quy hoạch | D18: 270 ngày | E18: Tháng 05/2027 | F18: Đơn vị tư vấn lập quy hoạch | G18: Phòng Kinh tế, UBND xã Tuấn Sơn và các sở ban ngành có liên quan | H18: =9*30 -> 270 | I18: =H18+I17 -> 46519
B19: Bước 4 | C19: Tổ chức lấy ý kiến các cơ quan quản lý nhà nước, tổ chức và chuyên gia có liên quan | D19: 7 ngày làm việc | E19: Tháng 05/2027 | F19: Phòng Kinh tế | G19: Các cơ quan, tổ chức trên địa bàn xã Tuấn Sơn, các sở ban ngành và đơn vị tư vấn lập quy hoạch | H19: 7 | I19: =H19+I18+2 -> 46528
B20: Bước 5 | C20: Tổng hợp, tiếp thu, giải trình các ý kiến tham gia của các cơ quan quản lý nhà nước, tổ chức và chuyên gia có liên quan, hoàn thiện hồ sơ đồ án quy hoạch | D20: 7 ngày | E20: Tháng 05/2027 | F20: Đơn vị tư vấn lập quy hoạch | G20: Phòng Kinh tế | H20: 7 | I20: =H20+I19 -> 46535
B21: Bước 6 | C21: Lấy ý kiến cộng đồng dân cư | D21: 30 ngày | E21: Tháng 06/2027 | F21: Phòng Kinh tế | G21: Các phòng ban trực thuộc UBND xã Tuấn Sơn và đơn vị tư vấn lập quy hoạch | H21: 30 | I21: =H21+I20 -> 46565
B22: Bước 7 | C22: Tiếp thu, hoàn thiện hồ sơ đồ án quy hoạch trình thẩm định | D22: 10 ngày | E22: Tháng 07/2027 | F22: Đơn vị tư vấn lập quy hoạch | G22: Phòng Kinh tế | H22: 10 | I22: =H22+I21 -> 46575
B23: Bước 8 | C23: Trình thẩm định đồ án quy hoạch | D23: 2 ngày | E23: Tháng 07/2027 | F23: UBND xã Tuấn Sơn | G23: Phòng Kinh tế và đơn vị tư vấn lập nhiệm vụ quy hoạch | H23: 2 | I23: =H23+I22 -> 46577
B24: Bước 9 | C24: Thẩm định đồ án quy hoạch | D24: 30 ngày | E24: Tháng 08/2027 | F24: Sở Xây dựng | G24: UBND xã Tuấn Sơn, đơn vị tư vấn lập quy hoạch | H24: 30 | I24: =H24+I23 -> 46607
B25: Bước 10 | C25: Họp Hội đồng thẩm định đồ án quy hoạch | D25: 5 ngày | E25: Tháng 08/2027 | F25: Hội đồng thẩm định | G25: UBND xã Tuấn Sơn, đơn vị tư vấn lập quy hoạch | H25: 5 | I25: =H25+I24 -> 46612
B26: Bước 11 | C26: Tổng hợp, tiếp thu và hoàn thiện hồ sơ trình phê duyệt đồ án quy hoạch | D26: 10 ngày | E26: Tháng 08/2027 | F26: Đơn vị tư vấn lập quy hoạch | G26: Phòng Kinh tế | H26: 10 | I26: =H26+I25 -> 46622
B27: Bước 12 | C27: Phê duyệt đồ án quy hoạch | D27: 15 ngày | E27: Tháng 09/2027 | F27: UBND tỉnh Lạng Sơn | G27: Sở Xây dựng, UBND xã Tuấn Sơn, đơn vị tư vấn lập quy hoạch | H27: 15 | I27: =H27+I26 -> 46637
B28: Bước 13 | C28: Công bố đồ án quy hoạch | D28: 15 ngày | E28: Tháng 09/2027 | F28: Phòng Kinh tế | G28: UBND xã Tuấn Sơn, đơn vị tư vấn lập quy hoạch | H28: 15 | I28: =H28+I27 -> 46652
